BEGIN:VCALENDAR
VERSION:2.0
PRODID:-//Manchester University - ECPv6.15.18//NONSGML v1.0//EN
CALSCALE:GREGORIAN
METHOD:PUBLISH
X-WR-CALNAME:Manchester University
X-ORIGINAL-URL:https://www.manchester.edu
X-WR-CALDESC:Events for Manchester University
REFRESH-INTERVAL;VALUE=DURATION:PT1H
X-Robots-Tag:noindex
X-PUBLISHED-TTL:PT1H
BEGIN:VTIMEZONE
TZID:America/Indiana/Indianapolis
BEGIN:DAYLIGHT
TZOFFSETFROM:-0500
TZOFFSETTO:-0400
TZNAME:EDT
DTSTART:20250309T070000
END:DAYLIGHT
BEGIN:STANDARD
TZOFFSETFROM:-0400
TZOFFSETTO:-0500
TZNAME:EST
DTSTART:20251102T060000
END:STANDARD
BEGIN:DAYLIGHT
TZOFFSETFROM:-0500
TZOFFSETTO:-0400
TZNAME:EDT
DTSTART:20260308T070000
END:DAYLIGHT
BEGIN:STANDARD
TZOFFSETFROM:-0400
TZOFFSETTO:-0500
TZNAME:EST
DTSTART:20261101T060000
END:STANDARD
BEGIN:DAYLIGHT
TZOFFSETFROM:-0500
TZOFFSETTO:-0400
TZNAME:EDT
DTSTART:20270314T070000
END:DAYLIGHT
BEGIN:STANDARD
TZOFFSETFROM:-0400
TZOFFSETTO:-0500
TZNAME:EST
DTSTART:20271107T060000
END:STANDARD
END:VTIMEZONE
BEGIN:VEVENT
DTSTART;TZID=America/Indiana/Indianapolis:20260429T173000
DTEND;TZID=America/Indiana/Indianapolis:20260429T233000
DTSTAMP:20260423T180034
CREATED:20260423T182520Z
LAST-MODIFIED:20260423T182520Z
UID:224771-1777483800-1777505400@www.manchester.edu
SUMMARY:Parkview Field
DESCRIPTION:MU Student Involvement is pleased to offer a fan bus as Manchester University takes on Trine University at Parkview Field in Fort Wayne. \nDeadline to register is 4.27 \nBus departs MU @ 5:30pm. Limited seats available – first come\, first served! \nWhen: Wednesday\, April 29 @ 7:00pm \nWhere: Parkview Field – TinCaps Stadium \nWho: Manchester vs Trine \nTicket cost will be covered for those who utilize this transportation option. \nPlease email SAC@manchester.edu if you have any questions!
URL:https://www.manchester.edu/event/parkview-field/
LOCATION:Manchester University\, 604 E College Ave\, North Manchester\, IN\, 46962\, United States
CATEGORIES:Student Events
END:VEVENT
END:VCALENDAR