BEGIN:VCALENDAR
VERSION:2.0
PRODID:-//Manchester University - ECPv6.15.18//NONSGML v1.0//EN
CALSCALE:GREGORIAN
METHOD:PUBLISH
X-ORIGINAL-URL:https://www.manchester.edu
X-WR-CALDESC:Events for Manchester University
REFRESH-INTERVAL;VALUE=DURATION:PT1H
X-Robots-Tag:noindex
X-PUBLISHED-TTL:PT1H
BEGIN:VTIMEZONE
TZID:America/Indiana/Indianapolis
BEGIN:DAYLIGHT
TZOFFSETFROM:-0500
TZOFFSETTO:-0400
TZNAME:EDT
DTSTART:20240310T070000
END:DAYLIGHT
BEGIN:STANDARD
TZOFFSETFROM:-0400
TZOFFSETTO:-0500
TZNAME:EST
DTSTART:20241103T060000
END:STANDARD
BEGIN:DAYLIGHT
TZOFFSETFROM:-0500
TZOFFSETTO:-0400
TZNAME:EDT
DTSTART:20250309T070000
END:DAYLIGHT
BEGIN:STANDARD
TZOFFSETFROM:-0400
TZOFFSETTO:-0500
TZNAME:EST
DTSTART:20251102T060000
END:STANDARD
BEGIN:DAYLIGHT
TZOFFSETFROM:-0500
TZOFFSETTO:-0400
TZNAME:EDT
DTSTART:20260308T070000
END:DAYLIGHT
BEGIN:STANDARD
TZOFFSETFROM:-0400
TZOFFSETTO:-0500
TZNAME:EST
DTSTART:20261101T060000
END:STANDARD
END:VTIMEZONE
BEGIN:VEVENT
DTSTART;VALUE=DATE:20250714
DTEND;VALUE=DATE:20250724
DTSTAMP:20260423T170211
CREATED:20250630T160046Z
LAST-MODIFIED:20250731T140852Z
UID:10000004-1752451200-1753315199@www.manchester.edu
SUMMARY:Discover Scotland with MU Alumni
DESCRIPTION:Join Manchester President Stacy Young ’96 and fellow alumni to Scotland! From its rugged sea-sprayed islands to its stately castles layered in history\, Scotland awaits. Learn how the bagpipes are played and enjoy dinner at the National Piping Centre’s farm-to-table restaurant. Take a cruise on famed Loch Ness. Visit a local family on their farm and meet their sheepdogs. Marvel at the stunning scenery of the Isle of Skye. Explore the Orkney Islands’ ancient Skara Brae. Visit Dunrobin Castle. Explore the regal city of Edinburgh. Put a modern twist on Scottish cuisine during an interactive cooking demonstration. Discover a land of rolling green Highlands\, friendly sheepdogs\, and historic castles. \nView Itinerary
URL:https://www.manchester.edu/event/discover-scotland-with-mu-alumni/
LOCATION:IN
CATEGORIES:Alumni
END:VEVENT
BEGIN:VEVENT
DTSTART;TZID=America/Indiana/Indianapolis:20250721T093000
DTEND;TZID=America/Indiana/Indianapolis:20250725T110000
DTSTAMP:20260423T170211
CREATED:20250731T141300Z
LAST-MODIFIED:20250731T142851Z
UID:10000025-1753090200-1753441200@www.manchester.edu
SUMMARY:Private College Week
DESCRIPTION:Visits are customized around small group experiences with an admissions info session and a campus tour.
URL:https://www.manchester.edu/event/private-college-week-2/
LOCATION:IN
CATEGORIES:Admissions,Visit
END:VEVENT
BEGIN:VEVENT
DTSTART;TZID=America/Indiana/Indianapolis:20250721T133000
DTEND;TZID=America/Indiana/Indianapolis:20250725T150000
DTSTAMP:20260423T170211
CREATED:20250622T112636Z
LAST-MODIFIED:20250731T142833Z
UID:10000002-1753104600-1753455600@www.manchester.edu
SUMMARY:Private College Week
DESCRIPTION:Visits are customized around small group experiences with an admissions info session and a campus tour.
URL:https://www.manchester.edu/event/private-college-week/
LOCATION:IN
CATEGORIES:Admissions,Visit
END:VEVENT
END:VCALENDAR