BEGIN:VCALENDAR
VERSION:2.0
PRODID:-//Manchester University - ECPv6.15.18//NONSGML v1.0//EN
CALSCALE:GREGORIAN
METHOD:PUBLISH
X-WR-CALNAME:Manchester University
X-ORIGINAL-URL:https://www.manchester.edu
X-WR-CALDESC:Events for Manchester University
REFRESH-INTERVAL;VALUE=DURATION:PT1H
X-Robots-Tag:noindex
X-PUBLISHED-TTL:PT1H
BEGIN:VTIMEZONE
TZID:America/Indiana/Indianapolis
BEGIN:DAYLIGHT
TZOFFSETFROM:-0500
TZOFFSETTO:-0400
TZNAME:EDT
DTSTART:20240310T070000
END:DAYLIGHT
BEGIN:STANDARD
TZOFFSETFROM:-0400
TZOFFSETTO:-0500
TZNAME:EST
DTSTART:20241103T060000
END:STANDARD
BEGIN:DAYLIGHT
TZOFFSETFROM:-0500
TZOFFSETTO:-0400
TZNAME:EDT
DTSTART:20250309T070000
END:DAYLIGHT
BEGIN:STANDARD
TZOFFSETFROM:-0400
TZOFFSETTO:-0500
TZNAME:EST
DTSTART:20251102T060000
END:STANDARD
BEGIN:DAYLIGHT
TZOFFSETFROM:-0500
TZOFFSETTO:-0400
TZNAME:EDT
DTSTART:20260308T070000
END:DAYLIGHT
BEGIN:STANDARD
TZOFFSETFROM:-0400
TZOFFSETTO:-0500
TZNAME:EST
DTSTART:20261101T060000
END:STANDARD
END:VTIMEZONE
BEGIN:VEVENT
DTSTART;TZID=America/Indiana/Indianapolis:20250824T123000
DTEND;TZID=America/Indiana/Indianapolis:20250824T133000
DTSTAMP:20260421T125529
CREATED:20250822T154917Z
LAST-MODIFIED:20250822T155249Z
UID:10000050-1756038600-1756042200@www.manchester.edu
SUMMARY:Presentation | Sex Rules
DESCRIPTION:All first-year students and all athletes are required to attend the Sex Rules presentation located in Cordier Auditorium.
URL:https://www.manchester.edu/event/presentation-sex-rules/
LOCATION:Cordier Auditorium
CATEGORIES:On-Campus Events
END:VEVENT
BEGIN:VEVENT
DTSTART;TZID=America/Indiana/Indianapolis:20250824T140000
DTEND;TZID=America/Indiana/Indianapolis:20250824T160000
DTSTAMP:20260421T125529
CREATED:20250822T155717Z
LAST-MODIFIED:20250822T165029Z
UID:10000051-1756044000-1756051200@www.manchester.edu
SUMMARY:Fall Involvement Fair
DESCRIPTION:\, Join MU Student Events as the Spartans return home for their first full week of class. As students arrive\, unpack and get settled in for their first weekend home away from home\, Student Events is proud to host the Fall Involvement Fair on the North Manchester Campus Mall near the Chime Tower. \n 
URL:https://www.manchester.edu/event/fall-involvement-fair/
LOCATION:On the MU Mall\, 604 E College Ave\, North Manchester\, IN\, 46787-1224\, United States
CATEGORIES:On-Campus Events,Visit,Alumni
END:VEVENT
BEGIN:VEVENT
DTSTART;TZID=America/Indiana/Indianapolis:20250824T200000
DTEND;TZID=America/Indiana/Indianapolis:20250824T213000
DTSTAMP:20260421T125529
CREATED:20250822T160104Z
LAST-MODIFIED:20250822T160149Z
UID:10000052-1756065600-1756071000@www.manchester.edu
SUMMARY:Hypnotist Chris Jones
DESCRIPTION:Join MU Student Events as the Spartans return home for their first full week of class. As students arrive\, unpack and get settled in for their first weekend home away from home\, Student Events is proud to host Hypnotist Chris Jones in Cordier Auditorium.
URL:https://www.manchester.edu/event/hypnotist-chris-jones/
LOCATION:Cordier Auditorium
CATEGORIES:On-Campus Events,Alumni
END:VEVENT
END:VCALENDAR