BEGIN:VCALENDAR
VERSION:2.0
PRODID:-//Manchester University - ECPv6.15.18//NONSGML v1.0//EN
CALSCALE:GREGORIAN
METHOD:PUBLISH
X-WR-CALNAME:Manchester University
X-ORIGINAL-URL:https://www.manchester.edu
X-WR-CALDESC:Events for Manchester University
REFRESH-INTERVAL;VALUE=DURATION:PT1H
X-Robots-Tag:noindex
X-PUBLISHED-TTL:PT1H
BEGIN:VTIMEZONE
TZID:America/Indiana/Indianapolis
BEGIN:DAYLIGHT
TZOFFSETFROM:-0500
TZOFFSETTO:-0400
TZNAME:EDT
DTSTART:20240310T070000
END:DAYLIGHT
BEGIN:STANDARD
TZOFFSETFROM:-0400
TZOFFSETTO:-0500
TZNAME:EST
DTSTART:20241103T060000
END:STANDARD
BEGIN:DAYLIGHT
TZOFFSETFROM:-0500
TZOFFSETTO:-0400
TZNAME:EDT
DTSTART:20250309T070000
END:DAYLIGHT
BEGIN:STANDARD
TZOFFSETFROM:-0400
TZOFFSETTO:-0500
TZNAME:EST
DTSTART:20251102T060000
END:STANDARD
BEGIN:DAYLIGHT
TZOFFSETFROM:-0500
TZOFFSETTO:-0400
TZNAME:EDT
DTSTART:20260308T070000
END:DAYLIGHT
BEGIN:STANDARD
TZOFFSETFROM:-0400
TZOFFSETTO:-0500
TZNAME:EST
DTSTART:20261101T060000
END:STANDARD
END:VTIMEZONE
BEGIN:VEVENT
DTSTART;TZID=America/Indiana/Indianapolis:20250901T093000
DTEND;TZID=America/Indiana/Indianapolis:20250901T133000
DTSTAMP:20260421T071222
CREATED:20250819T205115Z
LAST-MODIFIED:20250820T190200Z
UID:10000046-1756719000-1756733400@www.manchester.edu
SUMMARY:Spartan Kickoff Visit Day
DESCRIPTION:Join us on Labor Day\, Monday\, September 1 and kick off your college search and get a great introduction to Manchester. Your time on campus will include: \nSchedule of Events:  \n\n9:50 am – Check-in\n10 am – Campus Tour\n11 am – Admissions Presentation\n11:30 am – Student Panel\n12 pm – Lunch\n1 pm – Optional: coach and/or professor meetings as requested/available\n\n			\n				Register to Attend
URL:https://www.manchester.edu/event/spartan-kickoff-visit-day/
LOCATION:Manchester University\, 604 E College Ave\, North Manchester\, IN\, 46962\, United States
CATEGORIES:Admissions,Visit
END:VEVENT
BEGIN:VEVENT
DTSTART;TZID=America/Indiana/Indianapolis:20250901T110000
DTEND;TZID=America/Indiana/Indianapolis:20250901T120000
DTSTAMP:20260421T071222
CREATED:20250731T151841Z
LAST-MODIFIED:20250826T172513Z
UID:10000027-1756724400-1756728000@www.manchester.edu
SUMMARY:Constructing the Self: A Personal and Intellectual Journey
DESCRIPTION:Aaron Cook ’06\, Medical Editor | A 2006 graduate and medical editor\, Aaron Cook shares a personal and intellectual journey about navigating the challenges of college and starting a career.
URL:https://www.manchester.edu/event/constructing-the-self-a-personal-and-intellectual-journey/
LOCATION:Wine Recital Hall
CATEGORIES:VIA
END:VEVENT
END:VCALENDAR