BEGIN:VCALENDAR
VERSION:2.0
PRODID:-//Manchester University - ECPv6.15.18//NONSGML v1.0//EN
CALSCALE:GREGORIAN
METHOD:PUBLISH
X-WR-CALNAME:Manchester University
X-ORIGINAL-URL:https://www.manchester.edu
X-WR-CALDESC:Events for Manchester University
REFRESH-INTERVAL;VALUE=DURATION:PT1H
X-Robots-Tag:noindex
X-PUBLISHED-TTL:PT1H
BEGIN:VTIMEZONE
TZID:America/Indiana/Indianapolis
BEGIN:DAYLIGHT
TZOFFSETFROM:-0500
TZOFFSETTO:-0400
TZNAME:EDT
DTSTART:20240310T070000
END:DAYLIGHT
BEGIN:STANDARD
TZOFFSETFROM:-0400
TZOFFSETTO:-0500
TZNAME:EST
DTSTART:20241103T060000
END:STANDARD
BEGIN:DAYLIGHT
TZOFFSETFROM:-0500
TZOFFSETTO:-0400
TZNAME:EDT
DTSTART:20250309T070000
END:DAYLIGHT
BEGIN:STANDARD
TZOFFSETFROM:-0400
TZOFFSETTO:-0500
TZNAME:EST
DTSTART:20251102T060000
END:STANDARD
BEGIN:DAYLIGHT
TZOFFSETFROM:-0500
TZOFFSETTO:-0400
TZNAME:EDT
DTSTART:20260308T070000
END:DAYLIGHT
BEGIN:STANDARD
TZOFFSETFROM:-0400
TZOFFSETTO:-0500
TZNAME:EST
DTSTART:20261101T060000
END:STANDARD
END:VTIMEZONE
BEGIN:VEVENT
DTSTART;TZID=America/Indiana/Indianapolis:20250922T110000
DTEND;TZID=America/Indiana/Indianapolis:20250922T120000
DTSTAMP:20260421T084112
CREATED:20250731T152527Z
LAST-MODIFIED:20250826T175012Z
UID:10000030-1758538800-1758542400@www.manchester.edu
SUMMARY:In the Frame of Life - Life as an International Photojournalist
DESCRIPTION:Markus Gilliar\, photojournalist and founder of Sports Agency (GES)\, presents his journey across his career as one of the most notable sports photographers. His presentation will highlight four decades behind the lens at Olympic Games\, FIFA World Cups\, U.S. Open and Wimbledon\, Formula 1 races\, the Tour de France\, and more. What does it take to reach such success in a very competitive career path?
URL:https://www.manchester.edu/event/in-the-frame-of-life-life-as-an-international-photojournalist/
LOCATION:Wine Recital Hall
CATEGORIES:VIA
END:VEVENT
END:VCALENDAR