BEGIN:VCALENDAR
VERSION:2.0
PRODID:-//Manchester University - ECPv6.15.18//NONSGML v1.0//EN
CALSCALE:GREGORIAN
METHOD:PUBLISH
X-WR-CALNAME:Manchester University
X-ORIGINAL-URL:https://www.manchester.edu
X-WR-CALDESC:Events for Manchester University
REFRESH-INTERVAL;VALUE=DURATION:PT1H
X-Robots-Tag:noindex
X-PUBLISHED-TTL:PT1H
BEGIN:VTIMEZONE
TZID:America/Indiana/Indianapolis
BEGIN:DAYLIGHT
TZOFFSETFROM:-0500
TZOFFSETTO:-0400
TZNAME:EDT
DTSTART:20240310T070000
END:DAYLIGHT
BEGIN:STANDARD
TZOFFSETFROM:-0400
TZOFFSETTO:-0500
TZNAME:EST
DTSTART:20241103T060000
END:STANDARD
BEGIN:DAYLIGHT
TZOFFSETFROM:-0500
TZOFFSETTO:-0400
TZNAME:EDT
DTSTART:20250309T070000
END:DAYLIGHT
BEGIN:STANDARD
TZOFFSETFROM:-0400
TZOFFSETTO:-0500
TZNAME:EST
DTSTART:20251102T060000
END:STANDARD
BEGIN:DAYLIGHT
TZOFFSETFROM:-0500
TZOFFSETTO:-0400
TZNAME:EDT
DTSTART:20260308T070000
END:DAYLIGHT
BEGIN:STANDARD
TZOFFSETFROM:-0400
TZOFFSETTO:-0500
TZNAME:EST
DTSTART:20261101T060000
END:STANDARD
END:VTIMEZONE
BEGIN:VEVENT
DTSTART;TZID=America/Indiana/Indianapolis:20250929T110000
DTEND;TZID=America/Indiana/Indianapolis:20250929T120000
DTSTAMP:20260421T015539
CREATED:20250731T152643Z
LAST-MODIFIED:20250826T182205Z
UID:10000031-1759143600-1759147200@www.manchester.edu
SUMMARY:My Survival Journey
DESCRIPTION:Irene Miller\, social psychologist and Holocaust survivor\, will take you on a survival journey little written and known about. You will sleep in the winter under an open sky on the no man’s land; you will freeze in a Siberian labor camp where the bears come to your door front. In Uzbekistan\, you will live on boiled grass or broiled onions\, and shiver with malaria. You will spend years in orphanages. By the end\, you will wonder how a child with this background grows up to become a positive\, creative\, accomplished woman with a joy of living and love to share.
URL:https://www.manchester.edu/event/my-survival-journey/
LOCATION:Cordier Auditorium
CATEGORIES:VIA
END:VEVENT
END:VCALENDAR