BEGIN:VCALENDAR
VERSION:2.0
PRODID:-//Manchester University - ECPv6.15.18//NONSGML v1.0//EN
CALSCALE:GREGORIAN
METHOD:PUBLISH
X-WR-CALNAME:Manchester University
X-ORIGINAL-URL:https://www.manchester.edu
X-WR-CALDESC:Events for Manchester University
REFRESH-INTERVAL;VALUE=DURATION:PT1H
X-Robots-Tag:noindex
X-PUBLISHED-TTL:PT1H
BEGIN:VTIMEZONE
TZID:America/Indiana/Indianapolis
BEGIN:DAYLIGHT
TZOFFSETFROM:-0500
TZOFFSETTO:-0400
TZNAME:EDT
DTSTART:20240310T070000
END:DAYLIGHT
BEGIN:STANDARD
TZOFFSETFROM:-0400
TZOFFSETTO:-0500
TZNAME:EST
DTSTART:20241103T060000
END:STANDARD
BEGIN:DAYLIGHT
TZOFFSETFROM:-0500
TZOFFSETTO:-0400
TZNAME:EDT
DTSTART:20250309T070000
END:DAYLIGHT
BEGIN:STANDARD
TZOFFSETFROM:-0400
TZOFFSETTO:-0500
TZNAME:EST
DTSTART:20251102T060000
END:STANDARD
BEGIN:DAYLIGHT
TZOFFSETFROM:-0500
TZOFFSETTO:-0400
TZNAME:EDT
DTSTART:20260308T070000
END:DAYLIGHT
BEGIN:STANDARD
TZOFFSETFROM:-0400
TZOFFSETTO:-0500
TZNAME:EST
DTSTART:20261101T060000
END:STANDARD
END:VTIMEZONE
BEGIN:VEVENT
DTSTART;TZID=America/Indiana/Indianapolis:20251006T100000
DTEND;TZID=America/Indiana/Indianapolis:20251006T150000
DTSTAMP:20260421T083940
CREATED:20251002T133242Z
LAST-MODIFIED:20251002T133242Z
UID:10000100-1759744800-1759762800@www.manchester.edu
SUMMARY:Haircuts with Groovy & Monty's Cuts
DESCRIPTION:Sign up to get $5 haircuts from Groovy & Monty’s Cuts. You can sign up for a cut with Groovy OR Monty’s Cuts\, but please don’t sign up for both. Plan to bring your $5 with you when you arrive at your scheduled time. You can pay with cash or Venmo! \nSign up here!
URL:https://www.manchester.edu/event/haircuts-with-groovy-montys-cuts/
LOCATION:Intercultural Center\, 701 E College Ave\, North Manchester\, IN 46962\, NORTH MANCHESTER\, IN\, 46962\, United States
CATEGORIES:On-Campus Events
END:VEVENT
BEGIN:VEVENT
DTSTART;TZID=America/Indiana/Indianapolis:20251006T110000
DTEND;TZID=America/Indiana/Indianapolis:20251006T120000
DTSTAMP:20260421T083940
CREATED:20250731T164614Z
LAST-MODIFIED:20250826T182528Z
UID:10000032-1759748400-1759752000@www.manchester.edu
SUMMARY:Gorillas in our Midst
DESCRIPTION:Ella Brown\, University of Michigan Researcher at Dian Fossey Gorilla Fund\, will share the results of her NSF-funded research with wild male mountain gorillas; specifically\, how male gorillas become silverbacks\, and why individuals may mature at different rates. Her findings bring us closer to understanding our shared evolutionary lineage. Her presentation will feature original footage of wild mountain gorillas nearly 12\,000ft high in the volcanoes of Rwanda. \n 
URL:https://www.manchester.edu/event/gorillas-in-our-midst/
LOCATION:Wine Recital Hall
CATEGORIES:VIA
END:VEVENT
END:VCALENDAR