BEGIN:VCALENDAR
VERSION:2.0
PRODID:-//Manchester University - ECPv6.15.18//NONSGML v1.0//EN
CALSCALE:GREGORIAN
METHOD:PUBLISH
X-ORIGINAL-URL:https://www.manchester.edu
X-WR-CALDESC:Events for Manchester University
REFRESH-INTERVAL;VALUE=DURATION:PT1H
X-Robots-Tag:noindex
X-PUBLISHED-TTL:PT1H
BEGIN:VTIMEZONE
TZID:America/Indiana/Indianapolis
BEGIN:DAYLIGHT
TZOFFSETFROM:-0500
TZOFFSETTO:-0400
TZNAME:EDT
DTSTART:20240310T070000
END:DAYLIGHT
BEGIN:STANDARD
TZOFFSETFROM:-0400
TZOFFSETTO:-0500
TZNAME:EST
DTSTART:20241103T060000
END:STANDARD
BEGIN:DAYLIGHT
TZOFFSETFROM:-0500
TZOFFSETTO:-0400
TZNAME:EDT
DTSTART:20250309T070000
END:DAYLIGHT
BEGIN:STANDARD
TZOFFSETFROM:-0400
TZOFFSETTO:-0500
TZNAME:EST
DTSTART:20251102T060000
END:STANDARD
BEGIN:DAYLIGHT
TZOFFSETFROM:-0500
TZOFFSETTO:-0400
TZNAME:EDT
DTSTART:20260308T070000
END:DAYLIGHT
BEGIN:STANDARD
TZOFFSETFROM:-0400
TZOFFSETTO:-0500
TZNAME:EST
DTSTART:20261101T060000
END:STANDARD
END:VTIMEZONE
BEGIN:VEVENT
DTSTART;TZID=America/Indiana/Indianapolis:20251020T093000
DTEND;TZID=America/Indiana/Indianapolis:20251024T170000
DTSTAMP:20260421T015642
CREATED:20250819T210017Z
LAST-MODIFIED:20250926T171337Z
UID:10000048-1760952600-1761325200@www.manchester.edu
SUMMARY:Preview Week
DESCRIPTION:Get a Sneak Peek During Preview Week\nWant a closer look at life as a Spartan? Preview Week gives you the chance to explore Manchester in a small-group setting\, with flexible morning and afternoon options. \nMorning Session (9:50 a.m. – 1 p.m.) \n\n\nAdmissions info session \n\n\nGuided campus tour \n\n\nStudent panel \n\n\nFinancial aid overview \n\n\nComplimentary lunch \n\n\nAfternoon Session (1:50 – 4 p.m.) \n\n\nAdmissions info session \n\n\nGuided campus tour \n\n\nStudent panel \n\n\nFinancial aid overview \n\n\nLight snack \n\n\nMake it your own: On your visit form\, request to meet with a professor\, coach\, or other campus partner—we’ll do our best to accommodate! \nHave questions? Reach us at admitinfo@manchester.edu or 800-852-3648—or connect directly with your Admissions Counselor by text\, call\, or email anytime. \n			\n				Register to Attend
URL:https://www.manchester.edu/event/preview-week/
LOCATION:IN
CATEGORIES:Admissions,Visit
END:VEVENT
BEGIN:VEVENT
DTSTART;TZID=America/Indiana/Indianapolis:20251020T110000
DTEND;TZID=America/Indiana/Indianapolis:20251020T120000
DTSTAMP:20260421T015642
CREATED:20250731T164824Z
LAST-MODIFIED:20250826T202505Z
UID:10000033-1760958000-1760961600@www.manchester.edu
SUMMARY:Xcommunicada: Comics and Graphic Novels as Social Critique
DESCRIPTION:Dr. Lizbette Ocasio-Russe\, professor of creative writing at Southern New Hampshire University\, discusses the power of comics and graphic novels and their role of problematizing canonic literature. Her webcomic “Xcommunicada” uses fictional storylines set in nonfictional places to critique heteropatriarchal hegemony that shaped political\, economic\, and social forces by colonizing and eradicating indigenous natives and their beliefs. “Xcommunicada” celebrates humanity and embraces diverse beliefs\, as demonstrated by the protagonist who must get in touch with her ancestors’ native beliefs in order to defeat the evil plaguing her home.
URL:https://www.manchester.edu/event/xcommunicada-comics-and-graphic-novels-as-social-critique/
LOCATION:Wine Recital Hall
CATEGORIES:VIA
END:VEVENT
END:VCALENDAR