BEGIN:VCALENDAR
VERSION:2.0
PRODID:-//Manchester University - ECPv6.15.18//NONSGML v1.0//EN
CALSCALE:GREGORIAN
METHOD:PUBLISH
X-ORIGINAL-URL:https://www.manchester.edu
X-WR-CALDESC:Events for Manchester University
REFRESH-INTERVAL;VALUE=DURATION:PT1H
X-Robots-Tag:noindex
X-PUBLISHED-TTL:PT1H
BEGIN:VTIMEZONE
TZID:America/Indiana/Indianapolis
BEGIN:DAYLIGHT
TZOFFSETFROM:-0500
TZOFFSETTO:-0400
TZNAME:EDT
DTSTART:20250309T070000
END:DAYLIGHT
BEGIN:STANDARD
TZOFFSETFROM:-0400
TZOFFSETTO:-0500
TZNAME:EST
DTSTART:20251102T060000
END:STANDARD
BEGIN:DAYLIGHT
TZOFFSETFROM:-0500
TZOFFSETTO:-0400
TZNAME:EDT
DTSTART:20260308T070000
END:DAYLIGHT
BEGIN:STANDARD
TZOFFSETFROM:-0400
TZOFFSETTO:-0500
TZNAME:EST
DTSTART:20261101T060000
END:STANDARD
BEGIN:DAYLIGHT
TZOFFSETFROM:-0500
TZOFFSETTO:-0400
TZNAME:EDT
DTSTART:20270314T070000
END:DAYLIGHT
BEGIN:STANDARD
TZOFFSETFROM:-0400
TZOFFSETTO:-0500
TZNAME:EST
DTSTART:20271107T060000
END:STANDARD
END:VTIMEZONE
BEGIN:VEVENT
DTSTART;TZID=America/Indiana/Indianapolis:20260331T230000
DTEND;TZID=America/Indiana/Indianapolis:20260401T000000
DTSTAMP:20260420T064448
CREATED:20260325T132655Z
LAST-MODIFIED:20260414T182623Z
UID:10000221-1774998000-1775001600@www.manchester.edu
SUMMARY:CBC Blanket Donation
DESCRIPTION:CBC Blanket Donation The College of Business Club is hosting a blanket donation event on March 31st at 7pm in the SAC. Come join the CBC to make tie blankets to donate to homeless and humane shelters in the community!
URL:https://www.manchester.edu/event/cbc-blanket-donation/
LOCATION:Manchester University\, 604 E College Ave\, North Manchester\, IN\, 46962\, United States
END:VEVENT
BEGIN:VEVENT
DTSTART;TZID=America/Indiana/Indianapolis:20260331T230000
DTEND;TZID=America/Indiana/Indianapolis:20260401T000000
DTSTAMP:20260420T064448
CREATED:20260325T132657Z
LAST-MODIFIED:20260325T132657Z
UID:10000222-1774998000-1775001600@www.manchester.edu
SUMMARY:Weekly Meeting
DESCRIPTION:Weekly Meeting Join us for a movie night! With the end of the Lent season approaching we are going to celebrate by watching The Passion of The Christ! Snacks will be provided! All are welcome!!
URL:https://www.manchester.edu/event/weekly-meeting-2/
LOCATION:Petersime Chapel\, 604 College Avenue\, NORTH MANCHESTER\, 46962\, United States
END:VEVENT
END:VCALENDAR