BEGIN:VCALENDAR
VERSION:2.0
PRODID:-//Manchester University - ECPv6.15.18//NONSGML v1.0//EN
CALSCALE:GREGORIAN
METHOD:PUBLISH
X-ORIGINAL-URL:https://www.manchester.edu
X-WR-CALDESC:Events for Manchester University
REFRESH-INTERVAL;VALUE=DURATION:PT1H
X-Robots-Tag:noindex
X-PUBLISHED-TTL:PT1H
BEGIN:VTIMEZONE
TZID:America/Indiana/Indianapolis
BEGIN:DAYLIGHT
TZOFFSETFROM:-0500
TZOFFSETTO:-0400
TZNAME:EDT
DTSTART:20250309T070000
END:DAYLIGHT
BEGIN:STANDARD
TZOFFSETFROM:-0400
TZOFFSETTO:-0500
TZNAME:EST
DTSTART:20251102T060000
END:STANDARD
BEGIN:DAYLIGHT
TZOFFSETFROM:-0500
TZOFFSETTO:-0400
TZNAME:EDT
DTSTART:20260308T070000
END:DAYLIGHT
BEGIN:STANDARD
TZOFFSETFROM:-0400
TZOFFSETTO:-0500
TZNAME:EST
DTSTART:20261101T060000
END:STANDARD
BEGIN:DAYLIGHT
TZOFFSETFROM:-0500
TZOFFSETTO:-0400
TZNAME:EDT
DTSTART:20270314T070000
END:DAYLIGHT
BEGIN:STANDARD
TZOFFSETFROM:-0400
TZOFFSETTO:-0500
TZNAME:EST
DTSTART:20271107T060000
END:STANDARD
END:VTIMEZONE
BEGIN:VEVENT
DTSTART;VALUE=DATE:20260411
DTEND;VALUE=DATE:20260412
DTSTAMP:20260420T121003
CREATED:20260323T182810Z
LAST-MODIFIED:20260414T195724Z
UID:10000216-1775865600-1775951999@www.manchester.edu
SUMMARY:Chicago Trip
DESCRIPTION:Who can register?: \nCurrent full-time undergraduate students on the North Manchester campus. \nSign up: \nRegistration opens 3/30 @ 12pm! Each student must sign up for themselves. This trip is open to 50 students. Deadline to sign up is Friday\, April 3 @ 5:00pm. \nCost: \nWe are providing FREE transportation to and from Chicago. Students attending will need to cover the cost of any food/drink/activities/transportation while in the city\, etc. \nNo Show Disclaimer: \nStudents that sign up for the Chicago trip who do not attend the day of will be charged the full amount for a seat on the bus. \nQuestions: \nEmail SAC@manchester.edu
URL:https://www.manchester.edu/event/chicago-trip/
LOCATION:Manchester University\, 604 E College Ave\, North Manchester\, IN\, 46962\, United States
CATEGORIES:Student Events
ATTACH;FMTTYPE=image/png:https://www.manchester.edu/wp-content/uploads/2026/03/image_2026-03-23_142355007.png
END:VEVENT
END:VCALENDAR