BEGIN:VCALENDAR
VERSION:2.0
PRODID:-//Manchester University - ECPv6.15.18//NONSGML v1.0//EN
CALSCALE:GREGORIAN
METHOD:PUBLISH
X-WR-CALNAME:Manchester University
X-ORIGINAL-URL:https://www.manchester.edu
X-WR-CALDESC:Events for Manchester University
REFRESH-INTERVAL;VALUE=DURATION:PT1H
X-Robots-Tag:noindex
X-PUBLISHED-TTL:PT1H
BEGIN:VTIMEZONE
TZID:America/Indiana/Indianapolis
BEGIN:DAYLIGHT
TZOFFSETFROM:-0500
TZOFFSETTO:-0400
TZNAME:EDT
DTSTART:20250309T070000
END:DAYLIGHT
BEGIN:STANDARD
TZOFFSETFROM:-0400
TZOFFSETTO:-0500
TZNAME:EST
DTSTART:20251102T060000
END:STANDARD
BEGIN:DAYLIGHT
TZOFFSETFROM:-0500
TZOFFSETTO:-0400
TZNAME:EDT
DTSTART:20260308T070000
END:DAYLIGHT
BEGIN:STANDARD
TZOFFSETFROM:-0400
TZOFFSETTO:-0500
TZNAME:EST
DTSTART:20261101T060000
END:STANDARD
BEGIN:DAYLIGHT
TZOFFSETFROM:-0500
TZOFFSETTO:-0400
TZNAME:EDT
DTSTART:20270314T070000
END:DAYLIGHT
BEGIN:STANDARD
TZOFFSETFROM:-0400
TZOFFSETTO:-0500
TZNAME:EST
DTSTART:20271107T060000
END:STANDARD
END:VTIMEZONE
BEGIN:VEVENT
DTSTART;VALUE=DATE:20260420
DTEND;VALUE=DATE:20260425
DTSTAMP:20260421T013716
CREATED:20260225T162613Z
LAST-MODIFIED:20260413T210323Z
UID:10000190-1776643200-1777075199@www.manchester.edu
SUMMARY:Junior Preview Week
DESCRIPTION:High School Juniors: Experience Manchester This April\nIf you’re a high school junior beginning your college search\, Junior Preview Week is your chance to experience Manchester University in a meaningful way.\n			\n				\n				\n				\n				\n				\n			\n				\n				\n				\n				\n				Join us April 20–24 for a full campus visit experience designed specifically for juniors who are exploring what comes next.\nINCLUDED IN YOUR VISIT \n\n\n\nInformation from Admissions\nStudent panel\nCampus Tour\nComplimentary lunch\n\n\n\n			\n				\n				\n				\n				\n				Choose Your Visit Day\nAll five days offer the same full visit experience. Choose the date that fits your schedule.\n			\n			\n				\n				\n				\n				\n			\n				\n				\n			\n				\n				\n				\n				\n				\n				\n				\n				\n				\n				\n				\n				\n				\n				Mon | April 20\n			\n				Tue | April 21\n			\n				Wed | April 22\n			\n			\n				\n				\n				\n				\n				\n				Thur | April 23\n			\n				Fri | April 24
URL:https://www.manchester.edu/event/junior-preview-week/
LOCATION:Manchester University\, 604 E College Ave\, North Manchester\, IN\, 46962\, United States
CATEGORIES:Visit
END:VEVENT
BEGIN:VEVENT
DTSTART;TZID=America/Indiana/Indianapolis:20260421T103000
DTEND;TZID=America/Indiana/Indianapolis:20260421T160000
DTSTAMP:20260421T013716
CREATED:20260330T125002Z
LAST-MODIFIED:20260414T182307Z
UID:10000239-1776767400-1776787200@www.manchester.edu
SUMMARY:April Blood Drive
DESCRIPTION:Our next Blood Drive is a coming up soon! \nSign up to donated blood or volunteer. \nOur goal is to collect 30 units of blood! \nApril 21st 10:30am-4pm \nStudent Activities Center (SAC) \nSign up at links below: \nDonate – Sign Up \nVolunteer – Sign Up \nPlease email Kelsey Gower-Sweet if you have any questions.
URL:https://www.manchester.edu/event/april-blood-drive/
LOCATION:Student Activities Center\, 1205 East Street\, NORTH MANCHESTER\, IN\, 46962\, United States
ATTACH;FMTTYPE=image/png:https://www.manchester.edu/wp-content/uploads/2026/03/image_2026-03-30_084705179.png
END:VEVENT
END:VCALENDAR