BEGIN:VCALENDAR
VERSION:2.0
PRODID:-//Manchester University - ECPv6.15.18//NONSGML v1.0//EN
CALSCALE:GREGORIAN
METHOD:PUBLISH
X-WR-CALNAME:Manchester University
X-ORIGINAL-URL:https://www.manchester.edu
X-WR-CALDESC:Events for Manchester University
REFRESH-INTERVAL;VALUE=DURATION:PT1H
X-Robots-Tag:noindex
X-PUBLISHED-TTL:PT1H
BEGIN:VTIMEZONE
TZID:America/Indiana/Indianapolis
BEGIN:DAYLIGHT
TZOFFSETFROM:-0500
TZOFFSETTO:-0400
TZNAME:EDT
DTSTART:20240310T070000
END:DAYLIGHT
BEGIN:STANDARD
TZOFFSETFROM:-0400
TZOFFSETTO:-0500
TZNAME:EST
DTSTART:20241103T060000
END:STANDARD
BEGIN:DAYLIGHT
TZOFFSETFROM:-0500
TZOFFSETTO:-0400
TZNAME:EDT
DTSTART:20250309T070000
END:DAYLIGHT
BEGIN:STANDARD
TZOFFSETFROM:-0400
TZOFFSETTO:-0500
TZNAME:EST
DTSTART:20251102T060000
END:STANDARD
BEGIN:DAYLIGHT
TZOFFSETFROM:-0500
TZOFFSETTO:-0400
TZNAME:EDT
DTSTART:20260308T070000
END:DAYLIGHT
BEGIN:STANDARD
TZOFFSETFROM:-0400
TZOFFSETTO:-0500
TZNAME:EST
DTSTART:20261101T060000
END:STANDARD
BEGIN:DAYLIGHT
TZOFFSETFROM:-0500
TZOFFSETTO:-0400
TZNAME:EDT
DTSTART:20270314T070000
END:DAYLIGHT
BEGIN:STANDARD
TZOFFSETFROM:-0400
TZOFFSETTO:-0500
TZNAME:EST
DTSTART:20271107T060000
END:STANDARD
END:VTIMEZONE
BEGIN:VEVENT
DTSTART;TZID=America/Indiana/Indianapolis:20260326T180000
DTEND;TZID=America/Indiana/Indianapolis:20260326T200000
DTSTAMP:20260421T125605
CREATED:20260212T192103Z
LAST-MODIFIED:20260319T165631Z
UID:10000177-1774548000-1774555200@www.manchester.edu
SUMMARY:Cheers to Careers
DESCRIPTION:Alumni are invited to join Manchester’s Alumni Relations and Career and Professional Development at Two EE’s Winery. There guests will be able to connect with current students\, network with fellow alumni in the Fort Wayne area\, and hear from alumni guest speaker Arienne Shambarger ’07. Light refreshments will be served. \nRegister here.
URL:https://www.manchester.edu/event/cheers-to-careers/
LOCATION:Two-EE’s Winery\, 6808 N U.S 24 E\, Huntington\, IN\, 46750\, United States
CATEGORIES:Alumni
END:VEVENT
BEGIN:VEVENT
DTSTART;TZID=America/Indiana/Indianapolis:20260325T110000
DTEND;TZID=America/Indiana/Indianapolis:20260325T120000
DTSTAMP:20260421T125605
CREATED:20260312T133800Z
LAST-MODIFIED:20260415T141409Z
UID:10000199-1774436400-1774440000@www.manchester.edu
SUMMARY:HSH: Megan's record breaking Joker collection
DESCRIPTION:Join the Honors program at this VIA in supporting one of our Honors seniors\, Megan Pierce\, who is the 2026 Guinness World Record holder for “Largest Collection of Joker Memorabilia!”
URL:https://www.manchester.edu/event/hsh-megans-record-breaking-joker-collection-descriptionjoin-the-honors-program-at-this-via-in-supporting-one-of-our-honors-seniors-megan-pierce-who-is-the-2026-guinness-world-record-holder-for/
LOCATION:Wine Recital Hall
CATEGORIES:Alumni,Student Events
END:VEVENT
BEGIN:VEVENT
DTSTART;VALUE=DATE:20260301
DTEND;VALUE=DATE:20260302
DTSTAMP:20260421T125605
CREATED:20260212T193434Z
LAST-MODIFIED:20260212T193434Z
UID:10000178-1772323200-1772409599@www.manchester.edu
SUMMARY:Florida Alumni Gathering
DESCRIPTION:Manchester University invites alumni and friends to join President Stacy Young ’96 to cheer on the baseball team at a double header against Elizabethtown College. First pitch will take place on Sunday\, March 1 at 10 a.m. at the Lawnwood Complex\, 1302 Virginia Ave. Fort Pierce\, FL. Following the game (approximately 3 p.m.) we will meet up at Big Apple Pizza\, 2311 S 35th St\, Fort Pierce\, FL 34981\, to enjoy pizza and reminisce about Manchester. \nCan’t make it Sunday? Watch the Spartans in action these other times (admission is free): \nMonday\, March 2 Spartans vs. Susquehanna University\, 10 a.m. \nSpartans vs. Misericordia University\, 1 p.m. \nSpartans JV Game vs. Alvernia University\, 4 p.m. \nTuesday\, March 3 Spartans vs. Alvernia University\, 10 a.m. \nRegistration Link: https://manchester.advancementform.com/event/florida-alumni-gathering/register
URL:https://www.manchester.edu/event/florida-alumni-gathering/
LOCATION:Lawnwwood Complex\, 1302 Virginia Ave\, Fort Pierce\, IN\, 34950\, United States
CATEGORIES:Alumni,Student Events
END:VEVENT
BEGIN:VEVENT
DTSTART;TZID=America/Indiana/Indianapolis:20260222T170000
DTEND;TZID=America/Indiana/Indianapolis:20260222T210000
DTSTAMP:20260421T125605
CREATED:20251118T194709Z
LAST-MODIFIED:20260413T125807Z
UID:10000134-1771779600-1771794000@www.manchester.edu
SUMMARY:A Night with the Indiana Pacers
DESCRIPTION:A Night with the Indiana Pacers\nLet’s join other Manchester alumni at Gainbridge Fieldhouse on February 22nd at 5pm for tipoff! The Indiana Pacers play the Dallas Mavericks. It’s Family Night! With each purchased ticket you get a voucher for a hotdog\, chips\, and a soft drink\, and you get a Pacers cap! And after the game you can go down onto the court to shoot a free throw! See you there! \nRegister for this event
URL:https://www.manchester.edu/event/a-night-with-the-indiana-pacers/
LOCATION:Gainbridge Fieldhouse\, Indianapolis\, IN
CATEGORIES:Alumni
END:VEVENT
BEGIN:VEVENT
DTSTART;TZID=America/Indiana/Indianapolis:20260217T180000
DTEND;TZID=America/Indiana/Indianapolis:20260217T200000
DTSTAMP:20260421T125605
CREATED:20260112T161159Z
LAST-MODIFIED:20260413T125347Z
UID:10000156-1771351200-1771358400@www.manchester.edu
SUMMARY:2026 Arizona Alumni Gathering
DESCRIPTION:Welcome Arizona Spartans!\nAlumni and friends are invited to join Manchester for the annual Arizona Alumni Gathering on Feb. 17 at 6 p.m. Guests will enjoy a complimentary dinner at Roaring Forks Scottsdale. Catch up\, hear exciting updates on what’s new at MU\, plus what lies ahead. We look forward to an evening of conversation and new connections! \nRegister today! 
URL:https://www.manchester.edu/event/2026-arizona-alumni-gathering/
LOCATION:Alumni Gathering\, Scottsdale\, AZ
CATEGORIES:Alumni
END:VEVENT
BEGIN:VEVENT
DTSTART;TZID=America/Indiana/Indianapolis:20260203T190000
DTEND;TZID=America/Indiana/Indianapolis:20260203T200000
DTSTAMP:20260421T125605
CREATED:20251118T194034Z
LAST-MODIFIED:20260413T132208Z
UID:10000133-1770145200-1770148800@www.manchester.edu
SUMMARY:Reflections on Nepal
DESCRIPTION:Enjoying the View – Reflections on Nepal\nManchester students\, staff\, and faculty will embark on a trip to Nepal!  Join us as we hear from them about their recent adventures.  They will share about their understanding of grassroots peacebuilding\, pursuit of justice\, and agency from different vantage points\, outside of the context of the United States.  We will hear how their perspectives and worldview has changed during this trip. 
URL:https://www.manchester.edu/event/reflections-on-nepal/
LOCATION:Manchester University\, 604 E College Ave\, North Manchester\, IN\, 46962\, United States
CATEGORIES:Alumni
END:VEVENT
BEGIN:VEVENT
DTSTART;TZID=America/Indiana/Indianapolis:20260127T190000
DTEND;TZID=America/Indiana/Indianapolis:20260127T200000
DTSTAMP:20260421T125605
CREATED:20251118T193222Z
LAST-MODIFIED:20251118T193222Z
UID:10000132-1769540400-1769544000@www.manchester.edu
SUMMARY:Megan Pierce | Guinness World Record
DESCRIPTION:Alumni Event Series | Megan Pierce\nSenior Megan Pierce has accomplished something few people are able to do.  She has a Guinness World Record!  Join us as she shares about her unique hobby\, how it started\, and navigating the process of getting the record.  This busy student has the largest collection of The Joker memorabilia.  Megan will share some of her 2\,318+ pieces from her collection during our time together!  \nRegister Now!
URL:https://www.manchester.edu/event/megan-pierce-guinness-world-record/
LOCATION:Online Event
CATEGORIES:Alumni
END:VEVENT
BEGIN:VEVENT
DTSTART;TZID=America/Indiana/Indianapolis:20260120T190000
DTEND;TZID=America/Indiana/Indianapolis:20260120T200000
DTSTAMP:20260421T125605
CREATED:20251118T192613Z
LAST-MODIFIED:20251118T192613Z
UID:10000131-1768935600-1768939200@www.manchester.edu
SUMMARY:Connor Eichenauer and I-O Psychology
DESCRIPTION:Alumni Event Series | Connor Eichenauer and I-O Psychology\nJoin us as 2019 graduate Connor Eichenauer will share about his journey navigating grad school\, completing his Ph.D. at Michigan State University [the other Spartans].  We ‘ll hear how his academic efforts in the field of Industrial-Organizational Psychology prepared him for his corporate career as a talent assessor with GE Aerospace.  And he will share how his time at Manchester continues to infuse his work in discovering and developing talent. \nRegister for the Event
URL:https://www.manchester.edu/event/connor-eichenauer-and-i-o-psychology/
LOCATION:Online Event
CATEGORIES:Alumni
END:VEVENT
BEGIN:VEVENT
DTSTART;TZID=America/Indiana/Indianapolis:20260113T190000
DTEND;TZID=America/Indiana/Indianapolis:20260113T200000
DTSTAMP:20260421T125605
CREATED:20251118T191845Z
LAST-MODIFIED:20251204T214053Z
UID:10000130-1768330800-1768334400@www.manchester.edu
SUMMARY:Jeff Easley and the Medical Practicum
DESCRIPTION:Jeff Easely | Medical Practicum\nWe often say time spent here as a student will impact the rest of your life in amazing ways.  Dr. Jeff Easley ’83 experienced that life-changing opportunity when he went on the second-ever Medical Practicum Jan Term trip as a student.  Join us as we hear from him about that experience and how it helped shape his career in medicine\, including recently receiving Manchester’s Alumni Honor Award. \nRegister for the event
URL:https://www.manchester.edu/event/jeff-easley-and-the-medical-practicum/
LOCATION:Online Event
CATEGORIES:Alumni
END:VEVENT
BEGIN:VEVENT
DTSTART;TZID=America/Indiana/Indianapolis:20251208T170000
DTEND;TZID=America/Indiana/Indianapolis:20251208T183000
DTSTAMP:20260421T125605
CREATED:20250929T182236Z
LAST-MODIFIED:20260413T162850Z
UID:10000099-1765213200-1765218600@www.manchester.edu
SUMMARY:Pharmacy Happy Hour in Vegas
DESCRIPTION:Manchester School of Pharmacy | Happy Hour | Las Vegas\n \nJoin Dr. Tommy Smith for a happy hour at Midyear! All Manchester students and alumni are welcome to connect during this time at the conference. Appetizers and the first round of drinks are provided. We can’t wait to see you in Vegas! \n5:00 p.m.-6:30 p.m. (PST)\nRí Rá Irish Pub in the Shoppes at Mandalay Place\n3950 S Las Vegas Blvd\nLas Vegas\, NV 89119 \nRegister Now
URL:https://www.manchester.edu/event/manchester-school-of-pharmacy-happy-hour/
LOCATION:Las Vegas\, Las Vegas\, NV
CATEGORIES:Alumni
ATTACH;FMTTYPE=image/jpeg:https://www.manchester.edu/wp-content/uploads/2025/06/W.-Tommy-Smith.jpg
END:VEVENT
BEGIN:VEVENT
DTSTART;TZID=America/Indiana/Indianapolis:20251206T120000
DTEND;TZID=America/Indiana/Indianapolis:20251206T150000
DTSTAMP:20260421T125605
CREATED:20250929T181650Z
LAST-MODIFIED:20251020T160528Z
UID:10000098-1765022400-1765033200@www.manchester.edu
SUMMARY:Jingle Rails Christmas Train
DESCRIPTION:ALL ABOARD THE CHRISTMAS TRAIN\nCelebrate the season with Manchester Alumni and families aboard a seasonal\, 1.5-hour holiday journey through the snowy countryside. \n\nVisit from Santa\nCheerful music\nWarm drinks\nFestive experiences. \n\n\nDecember 6\, 2025 | 12:00 p.m.\n1469 West Main Street\nPleasant Lake\, Indiana \nRegister for Event
URL:https://www.manchester.edu/event/jingle-rails-christmas-train/
LOCATION:1469 West Main Street\, 1469 West Main Street\, Pleasant Lake\, IN
CATEGORIES:Alumni
END:VEVENT
BEGIN:VEVENT
DTSTART;TZID=America/Indiana/Indianapolis:20251109T143000
DTEND;TZID=America/Indiana/Indianapolis:20251109T153000
DTSTAMP:20260421T125605
CREATED:20251029T185033Z
LAST-MODIFIED:20251107T195219Z
UID:10000118-1762698600-1762702200@www.manchester.edu
SUMMARY:Fall Play: The Lonely Hearts Club
DESCRIPTION:Manchester University invites the public to attend “The Lonely Hearts Club\,” with performances on Nov. 7 and 8 at 8 p.m.\, and Nov. 9 at 2:30 p.m. in Cordier Auditorium. A romantic comedy featuring a heartwarming and hilarious journey of love and unexpected connections\, “The Lonely Hearts Club” tells the story of two adversarial coworkers who fall in love on an anonymous dating app.  \nThere is no cost for admission. 
URL:https://www.manchester.edu/event/fall-play-lonely-hearts-club/2025-11-09/
LOCATION:Cordier Auditorium
CATEGORIES:Alumni,On-Campus Events
END:VEVENT
BEGIN:VEVENT
DTSTART;TZID=America/Indiana/Indianapolis:20251108T080000
DTEND;TZID=America/Indiana/Indianapolis:20251108T210000
DTSTAMP:20260421T125605
CREATED:20251029T185033Z
LAST-MODIFIED:20251107T195219Z
UID:10000117-1762588800-1762635600@www.manchester.edu
SUMMARY:Fall Play: The Lonely Hearts Club
DESCRIPTION:Manchester University invites the public to attend “The Lonely Hearts Club\,” with performances on Nov. 7 and 8 at 8 p.m.\, and Nov. 9 at 2:30 p.m. in Cordier Auditorium. A romantic comedy featuring a heartwarming and hilarious journey of love and unexpected connections\, “The Lonely Hearts Club” tells the story of two adversarial coworkers who fall in love on an anonymous dating app.  \nThere is no cost for admission. 
URL:https://www.manchester.edu/event/fall-play-lonely-hearts-club/2025-11-08/
LOCATION:Cordier Auditorium
CATEGORIES:Alumni,On-Campus Events
END:VEVENT
BEGIN:VEVENT
DTSTART;TZID=America/Indiana/Indianapolis:20251107T080000
DTEND;TZID=America/Indiana/Indianapolis:20251107T210000
DTSTAMP:20260421T125605
CREATED:20251029T185033Z
LAST-MODIFIED:20251107T195219Z
UID:10000116-1762502400-1762549200@www.manchester.edu
SUMMARY:Fall Play: The Lonely Hearts Club
DESCRIPTION:Manchester University invites the public to attend “The Lonely Hearts Club\,” with performances on Nov. 7 and 8 at 8 p.m.\, and Nov. 9 at 2:30 p.m. in Cordier Auditorium. A romantic comedy featuring a heartwarming and hilarious journey of love and unexpected connections\, “The Lonely Hearts Club” tells the story of two adversarial coworkers who fall in love on an anonymous dating app.  \nThere is no cost for admission. 
URL:https://www.manchester.edu/event/fall-play-lonely-hearts-club/2025-11-07/
LOCATION:Cordier Auditorium
CATEGORIES:Alumni,On-Campus Events
END:VEVENT
BEGIN:VEVENT
DTSTART;TZID=America/Indiana/Indianapolis:20251104T173000
DTEND;TZID=America/Indiana/Indianapolis:20251104T193000
DTSTAMP:20260421T125605
CREATED:20251016T175409Z
LAST-MODIFIED:20251020T160952Z
UID:10000104-1762277400-1762284600@www.manchester.edu
SUMMARY:Alumni Connect: Guggman Haus Brewing Co.
DESCRIPTION:5:30 – 7:30 p.m.\nUniversity remarks at 6:00 p.m. \nConnect and reminisce with fellow Manchester alumni in the Indianapolis area. Hear from President Stacy H. Young ’96 about where Manchester is today. \n\nLight refreshments\nNon-alcoholic drinks provided\nCash bar available\n\nEvent sponsored by the Office of Alumni Relations. \nDirections:\n1701 Gent Ave.\nIndianapolis\, IN 46202 \nRegister for the Event
URL:https://www.manchester.edu/event/guggman-haus-brewing-co-the-boyle-racing-shop/
LOCATION:IN
CATEGORIES:Alumni
END:VEVENT
BEGIN:VEVENT
DTSTART;TZID=America/Indiana/Indianapolis:20251010T080000
DTEND;TZID=America/Indiana/Indianapolis:20251011T170000
DTSTAMP:20260421T125605
CREATED:20250630T160648Z
LAST-MODIFIED:20250926T173202Z
UID:10000006-1760083200-1760202000@www.manchester.edu
SUMMARY:Homecoming 2025
DESCRIPTION:View Full Schedule
URL:https://www.manchester.edu/event/homecoming-2025/
LOCATION:IN
CATEGORIES:Alumni,On-Campus Events
END:VEVENT
BEGIN:VEVENT
DTSTART;TZID=America/Indiana/Indianapolis:20250924T150000
DTEND;TZID=America/Indiana/Indianapolis:20250924T170000
DTSTAMP:20260421T125605
CREATED:20250922T144753Z
LAST-MODIFIED:20250922T144753Z
UID:10000072-1758726000-1758733200@www.manchester.edu
SUMMARY:Farmers Market Comes to Campus
DESCRIPTION:North Manchester’s Farmers Market\n \nJoin the Farmers Market on North Manchester campus in the JYSC parking lot.
URL:https://www.manchester.edu/event/farmers-market-comes-to-campus/
LOCATION:Jo Young Switzer Center\, 604 College Avenue\, NORTH MANCHESTER\, IN\, 46962\, United States
CATEGORIES:Alumni,On-Campus Events
END:VEVENT
BEGIN:VEVENT
DTSTART;TZID=America/Indiana/Indianapolis:20250920T100000
DTEND;TZID=America/Indiana/Indianapolis:20250920T160000
DTSTAMP:20260421T125605
CREATED:20250825T143234Z
LAST-MODIFIED:20250903T172213Z
UID:10000058-1758362400-1758384000@www.manchester.edu
SUMMARY:Car Show Extravaganza | Music at Manchester
DESCRIPTION:Rev up your engines\, cruise on over and support Manchester University Music Ensembles. Whether you’re a car enthusiast\, a music lover or someone who appreciates artisanal items\, this event is for you! \nFeaturing:  \n\nStunning array of cars\, live music\nvendors\nprizes\nfood\n\nThis is a free event open to the public. In the event of rain the event will be held Sept. 27.
URL:https://www.manchester.edu/event/car-show-extravaganza-music-at-manchester/
LOCATION:Schwalm Parking\, 604 E College Ave\, North Manchester\, 46787-1224\, United States
CATEGORIES:Alumni,On-Campus Events
END:VEVENT
BEGIN:VEVENT
DTSTART;VALUE=DATE:20250914
DTEND;VALUE=DATE:20250915
DTSTAMP:20260421T125605
CREATED:20250912T145052Z
LAST-MODIFIED:20251106T185249Z
UID:10000061-1757808000-1757894399@www.manchester.edu
SUMMARY:MU at the Indianapolis Colts
DESCRIPTION:MU Goes to Indy\n📅 Sunday\, September 14🕓 Game begins at 4:05 p.m.📍 Indianapolis Colts vs. Denver Broncos \nJoin Manchester University for an unforgettable trip to Lucas Oil Stadium to watch the Colts take on the Broncos! \nTrip Details: \n\n\nBus departs MU at 12:00 p.m. \n\n\nSign-ups open September 4 at 8:00 p.m. \n\n\nStudents in Colts gear can participate in the on-field experience \n\n\nIncluded: game ticket\, charter bus transportation\, and bus snacks. \nDon’t miss this chance to cheer on the Colts with your fellow Spartans!
URL:https://www.manchester.edu/event/mu-at-the-indianapolis-colts/
LOCATION:IN
CATEGORIES:Alumni,On-Campus Events
END:VEVENT
BEGIN:VEVENT
DTSTART;VALUE=DATE:20250913
DTEND;VALUE=DATE:20250914
DTSTAMP:20260421T125605
CREATED:20250912T150325Z
LAST-MODIFIED:20251106T185245Z
UID:10000062-1757721600-1757807999@www.manchester.edu
SUMMARY:MU Sports Line-up - Home
DESCRIPTION:MU Athletics at Home\n			\n				\n				\n				\n				\n				Men’s Soccer | 1pm | Good Field\n			\n				\n				\n				\n				\n				Football | 1pm | Spartan Stadium\nWHITEOUT!!! – Be one of the first 100 students and receive a free t-shirt \n*At an MU Whiteout Event\, be sure to wear white. \n			\n				\n				\n				\n				\n				Women’s Soccer | 3:30 pm | Good Field
URL:https://www.manchester.edu/event/mu-sports-line-up-home/
LOCATION:Manchester University\, 604 E College Ave\, North Manchester\, IN\, 46962\, United States
CATEGORIES:Alumni,On-Campus Events
END:VEVENT
BEGIN:VEVENT
DTSTART;TZID=America/Indiana/Indianapolis:20250906T123000
DTEND;TZID=America/Indiana/Indianapolis:20250906T140000
DTSTAMP:20260421T125605
CREATED:20250904T153433Z
LAST-MODIFIED:20250904T153548Z
UID:10000059-1757161800-1757167200@www.manchester.edu
SUMMARY:Spartan Pop-up Shop
DESCRIPTION:The MU Gear Shop invites you to grab some of your favorite Spartan gear Sept. 6 from 12:30 – 2pm at the Spartan Pop-up Shop at Spartan Stadium. This is a cashless sale\, please be sure to bring credit\, debit\, cash app\, apply pay or google pay. 
URL:https://www.manchester.edu/event/spartan-pop-up-shop/
LOCATION:Manchester University\, 604 E College Ave\, North Manchester\, IN\, 46962\, United States
CATEGORIES:Alumni,On-Campus Events
END:VEVENT
BEGIN:VEVENT
DTSTART;TZID=America/Indiana/Indianapolis:20250825T110000
DTEND;TZID=America/Indiana/Indianapolis:20250825T120000
DTSTAMP:20260421T125605
CREATED:20250822T160856Z
LAST-MODIFIED:20250822T164935Z
UID:10000053-1756119600-1756123200@www.manchester.edu
SUMMARY:Opening Convocation
DESCRIPTION:\, Welcome back! We hope you’ll join us for Opening Convocation with President Stacy Young\, faculty\, staff\, and students in Cordier Auditorium. If you’ve never been to an opening convocation\, it can often involve: \n\nThe procession of the faculty\nPresidential address\nSchool song\nAnd it sets expectations for the year.\, \,\,
URL:https://www.manchester.edu/event/opening-convocation/
LOCATION:Cordier Auditorium
CATEGORIES:Alumni,On-Campus Events
END:VEVENT
BEGIN:VEVENT
DTSTART;TZID=America/Indiana/Indianapolis:20250824T200000
DTEND;TZID=America/Indiana/Indianapolis:20250824T213000
DTSTAMP:20260421T125605
CREATED:20250822T160104Z
LAST-MODIFIED:20250822T160149Z
UID:10000052-1756065600-1756071000@www.manchester.edu
SUMMARY:Hypnotist Chris Jones
DESCRIPTION:Join MU Student Events as the Spartans return home for their first full week of class. As students arrive\, unpack and get settled in for their first weekend home away from home\, Student Events is proud to host Hypnotist Chris Jones in Cordier Auditorium.
URL:https://www.manchester.edu/event/hypnotist-chris-jones/
LOCATION:Cordier Auditorium
CATEGORIES:Alumni,On-Campus Events
END:VEVENT
BEGIN:VEVENT
DTSTART;TZID=America/Indiana/Indianapolis:20250824T140000
DTEND;TZID=America/Indiana/Indianapolis:20250824T160000
DTSTAMP:20260421T125605
CREATED:20250822T155717Z
LAST-MODIFIED:20250822T165029Z
UID:10000051-1756044000-1756051200@www.manchester.edu
SUMMARY:Fall Involvement Fair
DESCRIPTION:\, Join MU Student Events as the Spartans return home for their first full week of class. As students arrive\, unpack and get settled in for their first weekend home away from home\, Student Events is proud to host the Fall Involvement Fair on the North Manchester Campus Mall near the Chime Tower. \n 
URL:https://www.manchester.edu/event/fall-involvement-fair/
LOCATION:On the MU Mall\, 604 E College Ave\, North Manchester\, IN\, 46787-1224\, United States
CATEGORIES:Alumni,On-Campus Events,Visit
END:VEVENT
BEGIN:VEVENT
DTSTART;TZID=America/Indiana/Indianapolis:20250822T120000
DTEND;TZID=America/Indiana/Indianapolis:20250822T140000
DTSTAMP:20260421T125605
CREATED:20250822T154153Z
LAST-MODIFIED:20250822T155739Z
UID:10000049-1755864000-1755871200@www.manchester.edu
SUMMARY:Campus Cookout & Carnival
DESCRIPTION:Join MU Student Events as the Spartans return home for their first full week of class. As students arrive\, unpack and get settled in for their first weekend home away from home\, Student Events is proud to host the Campus Cookout and Carnival at Oak Grove. \nReminder: Haist Commons will be closed. All students are encouraged to eat at Oak Grove.
URL:https://www.manchester.edu/event/campus-cookout-carnival/
LOCATION:Manchester University\, 604 E College Ave\, North Manchester\, IN\, 46962\, United States
CATEGORIES:Alumni,On-Campus Events,Visit
END:VEVENT
BEGIN:VEVENT
DTSTART;VALUE=DATE:20250714
DTEND;VALUE=DATE:20250724
DTSTAMP:20260421T125605
CREATED:20250630T160046Z
LAST-MODIFIED:20250731T140852Z
UID:10000004-1752451200-1753315199@www.manchester.edu
SUMMARY:Discover Scotland with MU Alumni
DESCRIPTION:Join Manchester President Stacy Young ’96 and fellow alumni to Scotland! From its rugged sea-sprayed islands to its stately castles layered in history\, Scotland awaits. Learn how the bagpipes are played and enjoy dinner at the National Piping Centre’s farm-to-table restaurant. Take a cruise on famed Loch Ness. Visit a local family on their farm and meet their sheepdogs. Marvel at the stunning scenery of the Isle of Skye. Explore the Orkney Islands’ ancient Skara Brae. Visit Dunrobin Castle. Explore the regal city of Edinburgh. Put a modern twist on Scottish cuisine during an interactive cooking demonstration. Discover a land of rolling green Highlands\, friendly sheepdogs\, and historic castles. \nView Itinerary
URL:https://www.manchester.edu/event/discover-scotland-with-mu-alumni/
LOCATION:IN
CATEGORIES:Alumni
END:VEVENT
BEGIN:VEVENT
DTSTART;TZID=America/Indiana/Indianapolis:20250626T160000
DTEND;TZID=America/Indiana/Indianapolis:20250626T180000
DTSTAMP:20260421T125605
CREATED:20250616T205500Z
LAST-MODIFIED:20250630T162020Z
UID:10000001-1750953600-1750960800@www.manchester.edu
SUMMARY:South Bend Alumni Gathering
DESCRIPTION:Network with fellow Manchester alumni in the South Bend area. President Stacy H. Young ’96 will be sharing updates about where Manchester is today and Tish Kalita ’08\, Director of Career and Professional Development\, will be on hand to share how you can help current students gain valuable experience and how Manchester can still be a resource for you in your career. \nSouth Bend Alumni Gathering\nThursday\, June 26\, 2025\n4 – 6 p.m.\nIronhand Wine Bar\n1025 Northside Blvd.\nSouth Bend\, IN 46615
URL:https://www.manchester.edu/event/south-bend-alumni-gathering/
LOCATION:Ironhand Wine Bar\, 1025 Northside Blvd.\, South Bend\, IN\, 46615\, United States
CATEGORIES:Alumni
END:VEVENT
END:VCALENDAR