BEGIN:VCALENDAR
VERSION:2.0
PRODID:-//Manchester University - ECPv6.15.18//NONSGML v1.0//EN
CALSCALE:GREGORIAN
METHOD:PUBLISH
X-ORIGINAL-URL:https://www.manchester.edu
X-WR-CALDESC:Events for Manchester University
REFRESH-INTERVAL;VALUE=DURATION:PT1H
X-Robots-Tag:noindex
X-PUBLISHED-TTL:PT1H
BEGIN:VTIMEZONE
TZID:America/Indiana/Indianapolis
BEGIN:DAYLIGHT
TZOFFSETFROM:-0500
TZOFFSETTO:-0400
TZNAME:EDT
DTSTART:20240310T070000
END:DAYLIGHT
BEGIN:STANDARD
TZOFFSETFROM:-0400
TZOFFSETTO:-0500
TZNAME:EST
DTSTART:20241103T060000
END:STANDARD
BEGIN:DAYLIGHT
TZOFFSETFROM:-0500
TZOFFSETTO:-0400
TZNAME:EDT
DTSTART:20250309T070000
END:DAYLIGHT
BEGIN:STANDARD
TZOFFSETFROM:-0400
TZOFFSETTO:-0500
TZNAME:EST
DTSTART:20251102T060000
END:STANDARD
BEGIN:DAYLIGHT
TZOFFSETFROM:-0500
TZOFFSETTO:-0400
TZNAME:EDT
DTSTART:20260308T070000
END:DAYLIGHT
BEGIN:STANDARD
TZOFFSETFROM:-0400
TZOFFSETTO:-0500
TZNAME:EST
DTSTART:20261101T060000
END:STANDARD
END:VTIMEZONE
BEGIN:VEVENT
DTSTART;TZID=America/Indiana/Indianapolis:20250822T120000
DTEND;TZID=America/Indiana/Indianapolis:20250822T140000
DTSTAMP:20260421T181621
CREATED:20250822T154153Z
LAST-MODIFIED:20250822T155739Z
UID:10000049-1755864000-1755871200@www.manchester.edu
SUMMARY:Campus Cookout & Carnival
DESCRIPTION:Join MU Student Events as the Spartans return home for their first full week of class. As students arrive\, unpack and get settled in for their first weekend home away from home\, Student Events is proud to host the Campus Cookout and Carnival at Oak Grove. \nReminder: Haist Commons will be closed. All students are encouraged to eat at Oak Grove.
URL:https://www.manchester.edu/event/campus-cookout-carnival/
LOCATION:Manchester University\, 604 E College Ave\, North Manchester\, IN\, 46962\, United States
CATEGORIES:Alumni,On-Campus Events,Visit
END:VEVENT
BEGIN:VEVENT
DTSTART;VALUE=DATE:20250714
DTEND;VALUE=DATE:20250724
DTSTAMP:20260421T181621
CREATED:20250630T160046Z
LAST-MODIFIED:20250731T140852Z
UID:10000004-1752451200-1753315199@www.manchester.edu
SUMMARY:Discover Scotland with MU Alumni
DESCRIPTION:Join Manchester President Stacy Young ’96 and fellow alumni to Scotland! From its rugged sea-sprayed islands to its stately castles layered in history\, Scotland awaits. Learn how the bagpipes are played and enjoy dinner at the National Piping Centre’s farm-to-table restaurant. Take a cruise on famed Loch Ness. Visit a local family on their farm and meet their sheepdogs. Marvel at the stunning scenery of the Isle of Skye. Explore the Orkney Islands’ ancient Skara Brae. Visit Dunrobin Castle. Explore the regal city of Edinburgh. Put a modern twist on Scottish cuisine during an interactive cooking demonstration. Discover a land of rolling green Highlands\, friendly sheepdogs\, and historic castles. \nView Itinerary
URL:https://www.manchester.edu/event/discover-scotland-with-mu-alumni/
LOCATION:IN
CATEGORIES:Alumni
END:VEVENT
BEGIN:VEVENT
DTSTART;TZID=America/Indiana/Indianapolis:20250626T160000
DTEND;TZID=America/Indiana/Indianapolis:20250626T180000
DTSTAMP:20260421T181621
CREATED:20250616T205500Z
LAST-MODIFIED:20250630T162020Z
UID:10000001-1750953600-1750960800@www.manchester.edu
SUMMARY:South Bend Alumni Gathering
DESCRIPTION:Network with fellow Manchester alumni in the South Bend area. President Stacy H. Young ’96 will be sharing updates about where Manchester is today and Tish Kalita ’08\, Director of Career and Professional Development\, will be on hand to share how you can help current students gain valuable experience and how Manchester can still be a resource for you in your career. \nSouth Bend Alumni Gathering\nThursday\, June 26\, 2025\n4 – 6 p.m.\nIronhand Wine Bar\n1025 Northside Blvd.\nSouth Bend\, IN 46615
URL:https://www.manchester.edu/event/south-bend-alumni-gathering/
LOCATION:Ironhand Wine Bar\, 1025 Northside Blvd.\, South Bend\, IN\, 46615\, United States
CATEGORIES:Alumni
END:VEVENT
END:VCALENDAR