BEGIN:VCALENDAR
VERSION:2.0
PRODID:-//Manchester University - ECPv6.15.18//NONSGML v1.0//EN
CALSCALE:GREGORIAN
METHOD:PUBLISH
X-ORIGINAL-URL:https://www.manchester.edu
X-WR-CALDESC:Events for Manchester University
REFRESH-INTERVAL;VALUE=DURATION:PT1H
X-Robots-Tag:noindex
X-PUBLISHED-TTL:PT1H
BEGIN:VTIMEZONE
TZID:America/Indiana/Indianapolis
BEGIN:DAYLIGHT
TZOFFSETFROM:-0500
TZOFFSETTO:-0400
TZNAME:EDT
DTSTART:20240310T070000
END:DAYLIGHT
BEGIN:STANDARD
TZOFFSETFROM:-0400
TZOFFSETTO:-0500
TZNAME:EST
DTSTART:20241103T060000
END:STANDARD
BEGIN:DAYLIGHT
TZOFFSETFROM:-0500
TZOFFSETTO:-0400
TZNAME:EDT
DTSTART:20250309T070000
END:DAYLIGHT
BEGIN:STANDARD
TZOFFSETFROM:-0400
TZOFFSETTO:-0500
TZNAME:EST
DTSTART:20251102T060000
END:STANDARD
BEGIN:DAYLIGHT
TZOFFSETFROM:-0500
TZOFFSETTO:-0400
TZNAME:EDT
DTSTART:20260308T070000
END:DAYLIGHT
BEGIN:STANDARD
TZOFFSETFROM:-0400
TZOFFSETTO:-0500
TZNAME:EST
DTSTART:20261101T060000
END:STANDARD
END:VTIMEZONE
BEGIN:VEVENT
DTSTART;TZID=America/Indiana/Indianapolis:20251204T100000
DTEND;TZID=America/Indiana/Indianapolis:20251204T160000
DTSTAMP:20260422T063853
CREATED:20251107T195513Z
LAST-MODIFIED:20260203T194855Z
UID:10000119-1764842400-1764864000@www.manchester.edu
SUMMARY:Blood Drive
DESCRIPTION:Our next Blood Drive is a month away! \nSign up to donated blood or volunteer.\nOur goal is to collect 29 units of blood. \nSign Up Here!
URL:https://www.manchester.edu/event/blood-drive/
LOCATION:Student Activities Center\, 1205 East Street\, NORTH MANCHESTER\, IN\, 46962\, United States
CATEGORIES:On-Campus Events,Student Events
END:VEVENT
BEGIN:VEVENT
DTSTART;TZID=America/Indiana/Indianapolis:20251204T193000
DTEND;TZID=America/Indiana/Indianapolis:20251204T203000
DTSTAMP:20260422T063853
CREATED:20251118T224115Z
LAST-MODIFIED:20251118T224115Z
UID:10000135-1764876600-1764880200@www.manchester.edu
SUMMARY:Music @ Manchester | Merry\, Merry\, Manchester
DESCRIPTION:Join us for Merry\, Merry\, Manchester! Featuring performances from our Choirs\, Jazz Ensemble\, Handbell Choir\, Theatre Society and Brass Quintet\, this program will surely leave you with festive cheer. \nThis event is at 7:30 p.m. in our Cordier Auditorium on the North Manchester Campus. The program is also free and open to the public! \nLivestream Here!
URL:https://www.manchester.edu/event/music-manchester-merry-merry-manchester/
LOCATION:Cordier Auditorium
CATEGORIES:On-Campus Events,Music @ Manchester,Student Events
END:VEVENT
END:VCALENDAR