BEGIN:VCALENDAR
VERSION:2.0
PRODID:-//Manchester University - ECPv6.15.18//NONSGML v1.0//EN
CALSCALE:GREGORIAN
METHOD:PUBLISH
X-WR-CALNAME:Manchester University
X-ORIGINAL-URL:https://www.manchester.edu
X-WR-CALDESC:Events for Manchester University
REFRESH-INTERVAL;VALUE=DURATION:PT1H
X-Robots-Tag:noindex
X-PUBLISHED-TTL:PT1H
BEGIN:VTIMEZONE
TZID:America/Indiana/Indianapolis
BEGIN:DAYLIGHT
TZOFFSETFROM:-0500
TZOFFSETTO:-0400
TZNAME:EDT
DTSTART:20250309T070000
END:DAYLIGHT
BEGIN:STANDARD
TZOFFSETFROM:-0400
TZOFFSETTO:-0500
TZNAME:EST
DTSTART:20251102T060000
END:STANDARD
BEGIN:DAYLIGHT
TZOFFSETFROM:-0500
TZOFFSETTO:-0400
TZNAME:EDT
DTSTART:20260308T070000
END:DAYLIGHT
BEGIN:STANDARD
TZOFFSETFROM:-0400
TZOFFSETTO:-0500
TZNAME:EST
DTSTART:20261101T060000
END:STANDARD
BEGIN:DAYLIGHT
TZOFFSETFROM:-0500
TZOFFSETTO:-0400
TZNAME:EDT
DTSTART:20270314T070000
END:DAYLIGHT
BEGIN:STANDARD
TZOFFSETFROM:-0400
TZOFFSETTO:-0500
TZNAME:EST
DTSTART:20271107T060000
END:STANDARD
END:VTIMEZONE
BEGIN:VEVENT
DTSTART;TZID=America/Indiana/Indianapolis:20260227T110000
DTEND;TZID=America/Indiana/Indianapolis:20260227T123000
DTSTAMP:20260422T075052
CREATED:20260209T152336Z
LAST-MODIFIED:20260413T130338Z
UID:10000176-1772190000-1772195400@www.manchester.edu
SUMMARY:Chili Cook Off!
DESCRIPTION:  \nCome and Join us at our Chili Cook Off Event!
URL:https://www.manchester.edu/event/chili-cook-off/
LOCATION:Manchester University\, 604 E College Ave\, North Manchester\, IN\, 46962\, United States
CATEGORIES:On-Campus Events,Student Events
END:VEVENT
BEGIN:VEVENT
DTSTART;VALUE=DATE:20260301
DTEND;VALUE=DATE:20260302
DTSTAMP:20260422T075052
CREATED:20260212T193434Z
LAST-MODIFIED:20260212T193434Z
UID:10000178-1772323200-1772409599@www.manchester.edu
SUMMARY:Florida Alumni Gathering
DESCRIPTION:Manchester University invites alumni and friends to join President Stacy Young ’96 to cheer on the baseball team at a double header against Elizabethtown College. First pitch will take place on Sunday\, March 1 at 10 a.m. at the Lawnwood Complex\, 1302 Virginia Ave. Fort Pierce\, FL. Following the game (approximately 3 p.m.) we will meet up at Big Apple Pizza\, 2311 S 35th St\, Fort Pierce\, FL 34981\, to enjoy pizza and reminisce about Manchester. \nCan’t make it Sunday? Watch the Spartans in action these other times (admission is free): \nMonday\, March 2 Spartans vs. Susquehanna University\, 10 a.m. \nSpartans vs. Misericordia University\, 1 p.m. \nSpartans JV Game vs. Alvernia University\, 4 p.m. \nTuesday\, March 3 Spartans vs. Alvernia University\, 10 a.m. \nRegistration Link: https://manchester.advancementform.com/event/florida-alumni-gathering/register
URL:https://www.manchester.edu/event/florida-alumni-gathering/
LOCATION:Lawnwwood Complex\, 1302 Virginia Ave\, Fort Pierce\, IN\, 34950\, United States
CATEGORIES:Alumni,Student Events
END:VEVENT
BEGIN:VEVENT
DTSTART;TZID=America/Indiana/Indianapolis:20260302T110000
DTEND;TZID=America/Indiana/Indianapolis:20260302T120000
DTSTAMP:20260422T075052
CREATED:20260107T173341Z
LAST-MODIFIED:20260217T203943Z
UID:10000145-1772449200-1772452800@www.manchester.edu
SUMMARY:Gen Z Rising
DESCRIPTION:Generation Z Rising: Youth Power and Political Change in Nepa\nDr. Anuj Gurung and MU students of Jan 26 This presentation\, led by MU students who have visited Nepal\, explores the unprecedented role of Nepal’s Generation Z in challenging entrenched political systems and catalyzing a change of government. Drawing on on-the-ground accounts\, social media campaigns\, and youth-led organizing\, it examines how a digitally connected\, socially conscious generation transformed frustration into coordinated action. We will trace the movement’s origins\, tactics\, and leadership\, highlight the cultural and political context that gave rise to it\, and consider its implications for democratic participation\, governance\, and intergenerational power dynamics across South Asia and beyond.
URL:https://www.manchester.edu/event/gen-z-rising/
LOCATION:Academic Center 101\, 604 College Avenue\, NORTH MANCHESTER\, IN\, 46962\, United States
CATEGORIES:On-Campus Events,VIA,Student Events
END:VEVENT
BEGIN:VEVENT
DTSTART;TZID=America/Indiana/Indianapolis:20260302T193000
DTEND;TZID=America/Indiana/Indianapolis:20260302T203000
DTSTAMP:20260422T075052
CREATED:20260310T184534Z
LAST-MODIFIED:20260414T194729Z
UID:10000195-1772479800-1772483400@www.manchester.edu
SUMMARY:Chapel Event Series - March 2026
DESCRIPTION:Hosted by the Office of Multicultural Affairs\, join us for a weekly chapel time starting on March 9th where we will discuss a variety of topics relating to faith and religion.\n– Mar. 2: Chapel Service with Father Koehl – Saint Robert Bellarmine Catholic Church.\n– Mar. 9: What is Truth? – With Pastors Luke Hunt and Paul Rupert.\n– Mar. 23: Worship Night – Hosted by Simply Brethren.\n– Mar. 30: Monday Night Chapel Service – Hosted by the Psychology Department.
URL:https://www.manchester.edu/event/chapel-event-series-march-2026/2026-03-02/
LOCATION:Petersime Chapel\, 604 College Avenue\, NORTH MANCHESTER\, 46962\, United States
CATEGORIES:On-Campus Events,Student Events
END:VEVENT
BEGIN:VEVENT
DTSTART;TZID=America/Indiana/Indianapolis:20260306T110000
DTEND;TZID=America/Indiana/Indianapolis:20260306T120000
DTSTAMP:20260422T075052
CREATED:20260217T201620Z
LAST-MODIFIED:20260217T201620Z
UID:10000183-1772794800-1772798400@www.manchester.edu
SUMMARY:How a Drug Is Made: A Pharmacist’s guide to the Research Development\, and Innovation  Behind Modern Medicines
DESCRIPTION:All are welcome to join and listen to Dr. Kristina Zick. Using the link Microsoft Teams.
URL:https://www.manchester.edu/event/how-a-drug-is-made-a-pharmacists-guide-to-the-research-development-and-innovation-behind-modern-medicines/
LOCATION:Online Event
CATEGORIES:Student Events
END:VEVENT
BEGIN:VEVENT
DTSTART;TZID=America/Indiana/Indianapolis:20260308T150000
DTEND;TZID=America/Indiana/Indianapolis:20260308T160000
DTSTAMP:20260422T075052
CREATED:20260107T175037Z
LAST-MODIFIED:20260217T202056Z
UID:10000146-1772982000-1772985600@www.manchester.edu
SUMMARY:Manchester Symphony Orchestra
DESCRIPTION:Manchester Symphony Orchestra: Invocation\nMSO presents “Invocation” — the 3rd concert of our 87th season. Repertoire includes “Invocation” by Gustav Holst\, the US premiere of “Mighty River” by Errollyn Wallen\, “Elegy for Matthew” by David Conte\, and “Te Deum” by Baroque Wunderkind Marc-Antoine Charpentier.\nThis concert features several choral ensembles: Manchester Symphony Chorus\, Manchester University A Cappella Choir\, and University Singers and Choral Union choirs from Purdue University Fort Wayne. We also welcome Dr. William Sauerland as guest conductor for one piece\, and five soloists for the “Te Deum.”
URL:https://www.manchester.edu/event/orchestra/
LOCATION:Cordier Auditorium
CATEGORIES:On-Campus Events,VIA,Student Events
END:VEVENT
BEGIN:VEVENT
DTSTART;TZID=America/Indiana/Indianapolis:20260309T110000
DTEND;TZID=America/Indiana/Indianapolis:20260309T120000
DTSTAMP:20260422T075052
CREATED:20260107T184142Z
LAST-MODIFIED:20260217T204014Z
UID:10000147-1773054000-1773057600@www.manchester.edu
SUMMARY:Redefining Religion
DESCRIPTION:Challenging Eurocentric Narratives through Conjure\nLove argues that reexamining Conjure traditions exposes how African American spiritual practices have been sidelined in Eurocentric religious studies. Highlighting Conjure’s history of resistance and Black women’s agency\, the essay challenges Western categories that separate religion\, magic\, and science. Love ultimately urges a decolonized approach that honors the resilience and creativity of African American folk traditions. \nGuest speaker: Naomi Love
URL:https://www.manchester.edu/event/redefining-religion/
LOCATION:Wine Recital Hall
CATEGORIES:On-Campus Events,VIA,Student Events
END:VEVENT
BEGIN:VEVENT
DTSTART;TZID=America/Indiana/Indianapolis:20260309T193000
DTEND;TZID=America/Indiana/Indianapolis:20260309T203000
DTSTAMP:20260422T075052
CREATED:20260310T184534Z
LAST-MODIFIED:20260414T194729Z
UID:10000196-1773084600-1773088200@www.manchester.edu
SUMMARY:Chapel Event Series - March 2026
DESCRIPTION:Hosted by the Office of Multicultural Affairs\, join us for a weekly chapel time starting on March 9th where we will discuss a variety of topics relating to faith and religion.\n– Mar. 2: Chapel Service with Father Koehl – Saint Robert Bellarmine Catholic Church.\n– Mar. 9: What is Truth? – With Pastors Luke Hunt and Paul Rupert.\n– Mar. 23: Worship Night – Hosted by Simply Brethren.\n– Mar. 30: Monday Night Chapel Service – Hosted by the Psychology Department.
URL:https://www.manchester.edu/event/chapel-event-series-march-2026/2026-03-09/
LOCATION:Petersime Chapel\, 604 College Avenue\, NORTH MANCHESTER\, 46962\, United States
CATEGORIES:On-Campus Events,Student Events
END:VEVENT
BEGIN:VEVENT
DTSTART;TZID=America/Indiana/Indianapolis:20260313T110000
DTEND;TZID=America/Indiana/Indianapolis:20260313T120000
DTSTAMP:20260422T075052
CREATED:20260217T201811Z
LAST-MODIFIED:20260217T201811Z
UID:10000184-1773399600-1773403200@www.manchester.edu
SUMMARY:Hormonal Contraceptive Prescribing Facilitator and Barrier
DESCRIPTION:All are welcome to join and listen to Dr. Wambui Wamburu and Aayushi Shah. Using the link Microsoft Teams.
URL:https://www.manchester.edu/event/hormonal-contraceptive-prescribing-facilitator-and-barrier/
LOCATION:Online Event
CATEGORIES:Student Events
END:VEVENT
BEGIN:VEVENT
DTSTART;TZID=America/Indiana/Indianapolis:20260323T180000
DTEND;TZID=America/Indiana/Indianapolis:20260323T190000
DTSTAMP:20260422T075052
CREATED:20260323T182433Z
LAST-MODIFIED:20260323T182433Z
UID:10000215-1774288800-1774292400@www.manchester.edu
SUMMARY:ACS Grad School Talk - 2026
DESCRIPTION:Join Manchester University’s chapter of the American Chemical Society in their graduate school event. This event will feature alumnus Connor Hamilton ’25 and he will speak about this journey to graduate school! The talk will be held in room 203 in the Science Center.
URL:https://www.manchester.edu/event/acs-grad-school-talk-2026/
LOCATION:Science Center\, 604 College Avenue\, NORTH MANCHESTER\, IN\, 46962\, United States
CATEGORIES:On-Campus Events,Student Events
END:VEVENT
BEGIN:VEVENT
DTSTART;TZID=America/Indiana/Indianapolis:20260323T193000
DTEND;TZID=America/Indiana/Indianapolis:20260323T203000
DTSTAMP:20260422T075052
CREATED:20260310T184534Z
LAST-MODIFIED:20260414T194729Z
UID:10000197-1774294200-1774297800@www.manchester.edu
SUMMARY:Chapel Event Series - March 2026
DESCRIPTION:Hosted by the Office of Multicultural Affairs\, join us for a weekly chapel time starting on March 9th where we will discuss a variety of topics relating to faith and religion.\n– Mar. 2: Chapel Service with Father Koehl – Saint Robert Bellarmine Catholic Church.\n– Mar. 9: What is Truth? – With Pastors Luke Hunt and Paul Rupert.\n– Mar. 23: Worship Night – Hosted by Simply Brethren.\n– Mar. 30: Monday Night Chapel Service – Hosted by the Psychology Department.
URL:https://www.manchester.edu/event/chapel-event-series-march-2026/2026-03-23/
LOCATION:Petersime Chapel\, 604 College Avenue\, NORTH MANCHESTER\, 46962\, United States
CATEGORIES:On-Campus Events,Student Events
END:VEVENT
BEGIN:VEVENT
DTSTART;TZID=America/Indiana/Indianapolis:20260325T110000
DTEND;TZID=America/Indiana/Indianapolis:20260325T120000
DTSTAMP:20260422T075052
CREATED:20260312T133800Z
LAST-MODIFIED:20260415T141409Z
UID:10000199-1774436400-1774440000@www.manchester.edu
SUMMARY:HSH: Megan's record breaking Joker collection
DESCRIPTION:Join the Honors program at this VIA in supporting one of our Honors seniors\, Megan Pierce\, who is the 2026 Guinness World Record holder for “Largest Collection of Joker Memorabilia!”
URL:https://www.manchester.edu/event/hsh-megans-record-breaking-joker-collection-descriptionjoin-the-honors-program-at-this-via-in-supporting-one-of-our-honors-seniors-megan-pierce-who-is-the-2026-guinness-world-record-holder-for/
LOCATION:Wine Recital Hall
CATEGORIES:Alumni,Student Events
END:VEVENT
BEGIN:VEVENT
DTSTART;TZID=America/Indiana/Indianapolis:20260325T150000
DTEND;TZID=America/Indiana/Indianapolis:20260325T170000
DTSTAMP:20260422T075052
CREATED:20260204T184407Z
LAST-MODIFIED:20260312T024749Z
UID:10000173-1774450800-1774458000@www.manchester.edu
SUMMARY:Cleaning Day Event
DESCRIPTION:Spartans\, \nWe are teaming up with community partners across Wabash County for the Great March Cleanup and would love your participation! Whether you’re part of a group or just want to give back\, this is a great way to make an impact together. \nWHEN: Wednesday\, March 25 | 3–5 PM\n(Rain date: March 25) \nWHERE: Downtown North Manchester\nExact location & details will be shared closer to the event. \nWHO CAN JOIN?\nStudents\, faculty\, staff\, teams\, and clubs. Everyone is welcome! \nHOW TO SIGN UP:\nScan or click the image below to complete the volunteer form. Be sure to select North Manchester and indicate Manchester University as your organization. \nLet’s come together\, serve our community\, and take pride in where we live and learn.
URL:https://www.manchester.edu/event/cleaning-day-event/
LOCATION:Downtown North Manchester
CATEGORIES:On-Campus Events,Student Events
END:VEVENT
BEGIN:VEVENT
DTSTART;TZID=America/Indiana/Indianapolis:20260327T110000
DTEND;TZID=America/Indiana/Indianapolis:20260327T120000
DTSTAMP:20260422T075052
CREATED:20260217T202032Z
LAST-MODIFIED:20260217T202032Z
UID:10000185-1774609200-1774612800@www.manchester.edu
SUMMARY:POLE Overexpression Define Oncogenic Axis in CIC::DUX4 Sarcoma
DESCRIPTION:All are welcome to join and listen to Dr. Nathan Seligson. Using the link Microsoft Teams.
URL:https://www.manchester.edu/event/pole-overexpression-define-oncogenic-axis-in-cicdux4-sarcoma/
LOCATION:Online Event
CATEGORIES:Student Events
END:VEVENT
BEGIN:VEVENT
DTSTART;TZID=America/Indiana/Indianapolis:20260330T110000
DTEND;TZID=America/Indiana/Indianapolis:20260330T120000
DTSTAMP:20260422T075052
CREATED:20260107T202427Z
LAST-MODIFIED:20260420T183939Z
UID:10000149-1774868400-1774872000@www.manchester.edu
SUMMARY:Life Imitates Art
DESCRIPTION:Life Imitates Art: A Couple’s Journey to Creativity\nKate Black and Bob Haluska A look backstage at the community theatre experience. Travel with Kate Black and Bob Haluska through auditions\, casting\, rehearsal\, and performance. Consider how the work resonates over time.
URL:https://www.manchester.edu/event/life-art/
LOCATION:Wine Recital Hall
CATEGORIES:On-Campus Events,VIA,Student Events
END:VEVENT
BEGIN:VEVENT
DTSTART;TZID=America/Indiana/Indianapolis:20260330T193000
DTEND;TZID=America/Indiana/Indianapolis:20260330T203000
DTSTAMP:20260422T075052
CREATED:20260310T184534Z
LAST-MODIFIED:20260414T194729Z
UID:10000198-1774899000-1774902600@www.manchester.edu
SUMMARY:Chapel Event Series - March 2026
DESCRIPTION:Hosted by the Office of Multicultural Affairs\, join us for a weekly chapel time starting on March 9th where we will discuss a variety of topics relating to faith and religion.\n– Mar. 2: Chapel Service with Father Koehl – Saint Robert Bellarmine Catholic Church.\n– Mar. 9: What is Truth? – With Pastors Luke Hunt and Paul Rupert.\n– Mar. 23: Worship Night – Hosted by Simply Brethren.\n– Mar. 30: Monday Night Chapel Service – Hosted by the Psychology Department.
URL:https://www.manchester.edu/event/chapel-event-series-march-2026/2026-03-30/
LOCATION:Petersime Chapel\, 604 College Avenue\, NORTH MANCHESTER\, 46962\, United States
CATEGORIES:On-Campus Events,Student Events
END:VEVENT
BEGIN:VEVENT
DTSTART;TZID=America/Indiana/Indianapolis:20260406T110000
DTEND;TZID=America/Indiana/Indianapolis:20260406T120000
DTSTAMP:20260422T075052
CREATED:20260107T202647Z
LAST-MODIFIED:20260420T184134Z
UID:10000150-1775473200-1775476800@www.manchester.edu
SUMMARY:Protecting What Matters
DESCRIPTION:Protecting What Matters: Civil Liberties\, Democracy\, and the Planet We Share\nAndrea Warnke ‘79 was associate director of the ACLU of Vermont. She was recognized with the organization’s highest honor\, which now bears her name. She is active with the organization Third Act\, joining her concerns for the environment with her civil liberties background to safeguard our climate and democracy.
URL:https://www.manchester.edu/event/via-protect-what-matters/
LOCATION:Wine Recital Hall
CATEGORIES:On-Campus Events,VIA,Student Events
END:VEVENT
BEGIN:VEVENT
DTSTART;VALUE=DATE:20260411
DTEND;VALUE=DATE:20260412
DTSTAMP:20260422T075052
CREATED:20260323T182810Z
LAST-MODIFIED:20260414T195724Z
UID:10000216-1775865600-1775951999@www.manchester.edu
SUMMARY:Chicago Trip
DESCRIPTION:Who can register?: \nCurrent full-time undergraduate students on the North Manchester campus. \nSign up: \nRegistration opens 3/30 @ 12pm! Each student must sign up for themselves. This trip is open to 50 students. Deadline to sign up is Friday\, April 3 @ 5:00pm. \nCost: \nWe are providing FREE transportation to and from Chicago. Students attending will need to cover the cost of any food/drink/activities/transportation while in the city\, etc. \nNo Show Disclaimer: \nStudents that sign up for the Chicago trip who do not attend the day of will be charged the full amount for a seat on the bus. \nQuestions: \nEmail SAC@manchester.edu
URL:https://www.manchester.edu/event/chicago-trip/
LOCATION:Manchester University\, 604 E College Ave\, North Manchester\, IN\, 46962\, United States
CATEGORIES:Student Events
ATTACH;FMTTYPE=image/png:https://www.manchester.edu/wp-content/uploads/2026/03/image_2026-03-23_142355007.png
END:VEVENT
BEGIN:VEVENT
DTSTART;TZID=America/Indiana/Indianapolis:20260413T110000
DTEND;TZID=America/Indiana/Indianapolis:20260413T120000
DTSTAMP:20260422T075052
CREATED:20260107T204151Z
LAST-MODIFIED:20260420T184339Z
UID:10000152-1776078000-1776081600@www.manchester.edu
SUMMARY:Appeals on Wheels
DESCRIPTION:“Appeals on Wheels” is an outreach program of the Indiana Court of Appeals that brings live appellate oral arguments to communities across the state. By holding sessions in high schools\, colleges\, and civic venues—and engaging audiences in Q&A discussions—the Court offers the public a rare\, firsthand look at how an intermediate appellate court works. The program promotes transparency\, strengthens civic education\, and helps citizens understand how appellate decision-making differs from the trial court proceedings they may be more familiar with.
URL:https://www.manchester.edu/event/via-appeals-on-wheels/
LOCATION:Jo Young Switzer Center\, 604 College Avenue\, NORTH MANCHESTER\, IN\, 46962\, United States
CATEGORIES:On-Campus Events,VIA,Student Events
END:VEVENT
BEGIN:VEVENT
DTSTART;TZID=America/Indiana/Indianapolis:20260413T110000
DTEND;TZID=America/Indiana/Indianapolis:20260413T130000
DTSTAMP:20260422T075052
CREATED:20260409T175211Z
LAST-MODIFIED:20260413T143453Z
UID:10000242-1776078000-1776085200@www.manchester.edu
SUMMARY:Refreshers
DESCRIPTION:
URL:https://www.manchester.edu/event/refreshers/
LOCATION:Jo Young Switzer Center\, 604 College Avenue\, NORTH MANCHESTER\, IN\, 46962\, United States
CATEGORIES:On-Campus Events,Student Events
END:VEVENT
BEGIN:VEVENT
DTSTART;TZID=America/Indiana/Indianapolis:20260414T180000
DTEND;TZID=America/Indiana/Indianapolis:20260414T200000
DTSTAMP:20260422T075052
CREATED:20260414T180357Z
LAST-MODIFIED:20260414T190939Z
UID:10000244-1776189600-1776196800@www.manchester.edu
SUMMARY:Empty Bowls Painting - 2026
DESCRIPTION:Join us on April 14th in Haist Commons from 6 to 8 p.m. to paint bowls for the Empty Bowls fundraiser! Empty Bowls is a joint effort between the Campus Interfaith Board and Student life to raise funds for World Central Kitchen. World Central Kitchen provides food for victims of natural disaster\, conflicts\, and humanitarian crises around the world. \nThe bowls painted on April 14th will be cured/sealed and can be bought on April 26th in the Petersime Chapel! Purchasing a bowl will also include complimentary soup.
URL:https://www.manchester.edu/event/empty-bowls-painting-2026/
LOCATION:Jo Young Switzer Center\, 604 College Avenue\, NORTH MANCHESTER\, IN\, 46962\, United States
CATEGORIES:On-Campus Events,Student Events
END:VEVENT
BEGIN:VEVENT
DTSTART;TZID=America/Indiana/Indianapolis:20260420T110000
DTEND;TZID=America/Indiana/Indianapolis:20260420T120000
DTSTAMP:20260422T075052
CREATED:20260107T204400Z
LAST-MODIFIED:20260420T184438Z
UID:10000153-1776682800-1776686400@www.manchester.edu
SUMMARY:Tom Nielson - Resistance as Love
DESCRIPTION:Resistance as Love: Music as Social History\nTom Neilson is an award-winning folk musician and activist whose songs—rooted in his upbringing on a dairy farm and shaped by decades of international work in education\, public health\, and community organizing—give voice to movements for justice around the world. He draws on experiences from Colombia to Kenya\, Somalia to Nicaragua\, weaving humor\, political insight\, and storytelling into music that has been performed in more than twenty countries. Tom combines art and activism through concerts\, residencies\, and community engagement\, offering audiences both sharp social critique and a generous dose of wit.
URL:https://www.manchester.edu/event/via-tom-neilson/
LOCATION:Wine Recital Hall
CATEGORIES:On-Campus Events,VIA,Student Events
END:VEVENT
BEGIN:VEVENT
DTSTART;TZID=America/Indiana/Indianapolis:20260424T080000
DTEND;TZID=America/Indiana/Indianapolis:20260424T170000
DTSTAMP:20260422T075052
CREATED:20260217T202456Z
LAST-MODIFIED:20260413T143347Z
UID:10000187-1777017600-1777050000@www.manchester.edu
SUMMARY:The Role of Free-Fatty Acid Receptors in Renal Cell Carcinoma
DESCRIPTION:All are welcome to join and listen to Dr. Nader Moniri. Using the link Microsoft Teams.
URL:https://www.manchester.edu/event/the-role-of-free-fatty-acid-receptors-in-renal-cell-carcinoma/
LOCATION:Online Event
CATEGORIES:Student Events
END:VEVENT
BEGIN:VEVENT
DTSTART;TZID=America/Indiana/Indianapolis:20260426T123000
DTEND;TZID=America/Indiana/Indianapolis:20260426T150000
DTSTAMP:20260422T075052
CREATED:20260414T190009Z
LAST-MODIFIED:20260414T190810Z
UID:10000245-1777206600-1777215600@www.manchester.edu
SUMMARY:Empty Bowls Fundraiser - 2026
DESCRIPTION:Empty Bowls is a joint effort between the Campus Interfaith Board and Student life to raise funds for World Central Kitchen. World Central Kitchen provides food for victims of natural disaster\, conflicts\, and humanitarian crises around the world. The bowls painted on April 14th will be cured/sealed and can be bought on April 26th in the Petersime Chapel! Purchasing a bowl will also include complimentary soup. The event runs from 12:30 to 3 p.m. and will have live music!
URL:https://www.manchester.edu/event/empty-bowls-fundraiser-2026/
LOCATION:Petersime Chapel\, 604 College Avenue\, NORTH MANCHESTER\, 46962\, United States
CATEGORIES:On-Campus Events,Student Events
END:VEVENT
BEGIN:VEVENT
DTSTART;TZID=America/Indiana/Indianapolis:20260427T110000
DTEND;TZID=America/Indiana/Indianapolis:20260427T120000
DTSTAMP:20260422T075052
CREATED:20260107T204613Z
LAST-MODIFIED:20260420T184253Z
UID:10000154-1777287600-1777291200@www.manchester.edu
SUMMARY:Mike Staudenmaier - White\, Black\, Brown
DESCRIPTION:White\, Black\, Brown: The Past\, Present and Future of Puerto Rican Chicago\nThe global fame of Bad Bunny has raised popular awareness of Puerto Rico and its people\, millions of whom live in the United States. In Chicago\, the Puerto Rican community has played a pivotal role in shifting understandings of identity and belonging over the past century. This talk will demonstrate how Chicago and the whole Midwest have generated elements of culture and politics that helped pave the way for Bad Bunny’s Super Bowl moment\, and it will suggest a possible future path for Puerto Ricans and their relationship with the USA.
URL:https://www.manchester.edu/event/via-mike-staudenmaier/
LOCATION:Wine Recital Hall
CATEGORIES:On-Campus Events,VIA,Student Events
END:VEVENT
BEGIN:VEVENT
DTSTART;VALUE=DATE:20260428
DTEND;VALUE=DATE:20260429
DTSTAMP:20260422T075052
CREATED:20260327T191731Z
LAST-MODIFIED:20260413T142504Z
UID:10000237-1777334400-1777420799@www.manchester.edu
SUMMARY:Acorns to Oaks: Manchester Giving Day
DESCRIPTION:So much has changed since your days on campus. Careers have evolved. Homes have expanded and contracted. Life has taken you in directions you may never have imagined. \nBut some things never change. \nThe friendships you formed.The values that shaped you.The confidence you gained.The pride you still feel when you say\, “I went to Manchester.” \nThose experiences didn’t end at graduation. They became part of the foundation you’ve built your life on. \nOn April 28\, Manchester’s Giving Day brings our community together again. It’s a chance for alumni of all ages to give back to the place that gave us so much. \nA gift of just $20 honors your degree and helps ensure today’s students experience the same support\, opportunity\, and lifelong connection that defined your Manchester years. \n			\n				Donate on Giving Day
URL:https://www.manchester.edu/event/acorns-to-oaks-manchester-giving-day/
LOCATION:Manchester University\, 604 E College Ave\, North Manchester\, IN\, 46962\, United States
CATEGORIES:Alumni,On-Campus Events,Student Events
END:VEVENT
BEGIN:VEVENT
DTSTART;VALUE=DATE:20260430
DTEND;VALUE=DATE:20260503
DTSTAMP:20260422T075052
CREATED:20260416T184956Z
LAST-MODIFIED:20260416T211746Z
UID:10000248-1777507200-1777766399@www.manchester.edu
SUMMARY:MAY DAY 2026
DESCRIPTION:Spartans\, \nGet your teams ready! It’s time to get signed up for our 105th May Day celebration! \nEvents for May Day include: Kickoff Bonfire on April 30th\, Trike Race and Airband on May 1st\, Mud Volleyball and the Drag Show on May 2nd. \nPlease note: Only one person needs to sign the team up and you can only be on one team per event! \nSign up by 4/22 for a May Day t-shirt!\ \nEmail MUOMAC@manchester.edu with any questions! \n 
URL:https://www.manchester.edu/event/may-day-2026/
LOCATION:Manchester University\, 604 E College Ave\, North Manchester\, IN\, 46962\, United States
CATEGORIES:On-Campus Events,Student Events
END:VEVENT
BEGIN:VEVENT
DTSTART;TZID=America/Indiana/Indianapolis:20260501T110000
DTEND;TZID=America/Indiana/Indianapolis:20260501T120000
DTSTAMP:20260422T075052
CREATED:20260217T202652Z
LAST-MODIFIED:20260414T200034Z
UID:10000188-1777633200-1777636800@www.manchester.edu
SUMMARY:Consensus Recommendations for Standardization of Pharmacogenomic Testing Practices
DESCRIPTION:All are welcome to join and listen to Dr. Carrie Hoefer. Using the link Microsoft Teams.
URL:https://www.manchester.edu/event/consensus-recommendations-for-standardization-of-pharmacogenomic-testing-practices/
LOCATION:Online Event
CATEGORIES:Student Events
END:VEVENT
BEGIN:VEVENT
DTSTART;TZID=America/Indiana/Indianapolis:20260503T150000
DTEND;TZID=America/Indiana/Indianapolis:20260503T170000
DTSTAMP:20260422T075052
CREATED:20260107T205101Z
LAST-MODIFIED:20260217T203036Z
UID:10000155-1777820400-1777827600@www.manchester.edu
SUMMARY:Manchester Symphony Orchestra - Take Flight
DESCRIPTION:Manchester Symphony Orchestra: Take Flight\nJoin us at the Eagles Theatre\, located in Wabash Indiana at 3pm. The Manchester Symphony Orchestra presents an eclectic program of modern works featuring the world premiere of The Flock\, a new concerto for nyckelharpa and bass by the dynamic string duo Warren & Flick. The piece blends elements of folk\, jazz\, and classical genres for a fresh perspective on art music in the 21st century. Dr. Debra Lynn will conduct the program\, which also includes William Bolcom’s “Inventing Flight\,” combining classical\, jazz\, and ragtime styles to convey the history of airplanes\, and Seóirse Bodley’s ethereal “A Small White Cloud Drifts Over Ireland.” The performance concludes with the flying theme from E.T. the Extra-Terrestrial\, composed by John Williams
URL:https://www.manchester.edu/event/via-take-flight/
LOCATION:Eagles Theatre\, Wabash\, IN
CATEGORIES:VIA,Student Events
END:VEVENT
BEGIN:VEVENT
DTSTART;TZID=America/Indiana/Indianapolis:20260508T110000
DTEND;TZID=America/Indiana/Indianapolis:20260508T120000
DTSTAMP:20260422T075052
CREATED:20260217T202823Z
LAST-MODIFIED:20260413T143233Z
UID:10000189-1778238000-1778241600@www.manchester.edu
SUMMARY:Reprogramming Microglia Activation in Neuroinflammation
DESCRIPTION:All are welcome to join and listen to Dr. Shamma Rahman. Using the link Microsoft Teams.
URL:https://www.manchester.edu/event/reprogramming-microglia-activation-in-neuroinflammation/
LOCATION:Online Event
CATEGORIES:Student Events
END:VEVENT
END:VCALENDAR