BEGIN:VCALENDAR
VERSION:2.0
PRODID:-//Manchester University - ECPv6.15.18//NONSGML v1.0//EN
CALSCALE:GREGORIAN
METHOD:PUBLISH
X-WR-CALNAME:Manchester University
X-ORIGINAL-URL:https://www.manchester.edu
X-WR-CALDESC:Events for Manchester University
REFRESH-INTERVAL;VALUE=DURATION:PT1H
X-Robots-Tag:noindex
X-PUBLISHED-TTL:PT1H
BEGIN:VTIMEZONE
TZID:America/Indiana/Indianapolis
BEGIN:DAYLIGHT
TZOFFSETFROM:-0500
TZOFFSETTO:-0400
TZNAME:EDT
DTSTART:20240310T070000
END:DAYLIGHT
BEGIN:STANDARD
TZOFFSETFROM:-0400
TZOFFSETTO:-0500
TZNAME:EST
DTSTART:20241103T060000
END:STANDARD
BEGIN:DAYLIGHT
TZOFFSETFROM:-0500
TZOFFSETTO:-0400
TZNAME:EDT
DTSTART:20250309T070000
END:DAYLIGHT
BEGIN:STANDARD
TZOFFSETFROM:-0400
TZOFFSETTO:-0500
TZNAME:EST
DTSTART:20251102T060000
END:STANDARD
BEGIN:DAYLIGHT
TZOFFSETFROM:-0500
TZOFFSETTO:-0400
TZNAME:EDT
DTSTART:20260308T070000
END:DAYLIGHT
BEGIN:STANDARD
TZOFFSETFROM:-0400
TZOFFSETTO:-0500
TZNAME:EST
DTSTART:20261101T060000
END:STANDARD
BEGIN:DAYLIGHT
TZOFFSETFROM:-0500
TZOFFSETTO:-0400
TZNAME:EDT
DTSTART:20270314T070000
END:DAYLIGHT
BEGIN:STANDARD
TZOFFSETFROM:-0400
TZOFFSETTO:-0500
TZNAME:EST
DTSTART:20271107T060000
END:STANDARD
END:VTIMEZONE
BEGIN:VEVENT
DTSTART;TZID=America/Indiana/Indianapolis:20260420T110000
DTEND;TZID=America/Indiana/Indianapolis:20260420T130000
DTSTAMP:20260420T200704
CREATED:20260416T192009Z
LAST-MODIFIED:20260416T192020Z
UID:10000249-1776682800-1776690000@www.manchester.edu
SUMMARY:Pot Succs - Spring 2026
DESCRIPTION:Join Spartan Choices and Dining Services in their “Pot Succs” event! Come to Haist Commons from 11 am to 1 pm to pot a plant or succulent while supplies last.
URL:https://www.manchester.edu/event/pot-succs-spring-2026/
LOCATION:Jo Young Switzer Center\, 604 College Avenue\, NORTH MANCHESTER\, IN\, 46962\, United States
END:VEVENT
BEGIN:VEVENT
DTSTART;TZID=America/Indiana/Indianapolis:20260414T180000
DTEND;TZID=America/Indiana/Indianapolis:20260414T200000
DTSTAMP:20260420T200704
CREATED:20260414T180357Z
LAST-MODIFIED:20260414T190939Z
UID:10000244-1776189600-1776196800@www.manchester.edu
SUMMARY:Empty Bowls Painting - 2026
DESCRIPTION:Join us on April 14th in Haist Commons from 6 to 8 p.m. to paint bowls for the Empty Bowls fundraiser! Empty Bowls is a joint effort between the Campus Interfaith Board and Student life to raise funds for World Central Kitchen. World Central Kitchen provides food for victims of natural disaster\, conflicts\, and humanitarian crises around the world. \nThe bowls painted on April 14th will be cured/sealed and can be bought on April 26th in the Petersime Chapel! Purchasing a bowl will also include complimentary soup.
URL:https://www.manchester.edu/event/empty-bowls-painting-2026/
LOCATION:Jo Young Switzer Center\, 604 College Avenue\, NORTH MANCHESTER\, IN\, 46962\, United States
CATEGORIES:On-Campus Events,Student Events
END:VEVENT
BEGIN:VEVENT
DTSTART;TZID=America/Indiana/Indianapolis:20260413T110000
DTEND;TZID=America/Indiana/Indianapolis:20260413T130000
DTSTAMP:20260420T200704
CREATED:20260409T175211Z
LAST-MODIFIED:20260413T143453Z
UID:10000242-1776078000-1776085200@www.manchester.edu
SUMMARY:Refreshers
DESCRIPTION:
URL:https://www.manchester.edu/event/refreshers/
LOCATION:Jo Young Switzer Center\, 604 College Avenue\, NORTH MANCHESTER\, IN\, 46962\, United States
CATEGORIES:On-Campus Events,Student Events
END:VEVENT
BEGIN:VEVENT
DTSTART;TZID=America/Indiana/Indianapolis:20260413T110000
DTEND;TZID=America/Indiana/Indianapolis:20260413T120000
DTSTAMP:20260420T200704
CREATED:20260107T204151Z
LAST-MODIFIED:20260420T184339Z
UID:10000152-1776078000-1776081600@www.manchester.edu
SUMMARY:Appeals on Wheels
DESCRIPTION:“Appeals on Wheels” is an outreach program of the Indiana Court of Appeals that brings live appellate oral arguments to communities across the state. By holding sessions in high schools\, colleges\, and civic venues—and engaging audiences in Q&A discussions—the Court offers the public a rare\, firsthand look at how an intermediate appellate court works. The program promotes transparency\, strengthens civic education\, and helps citizens understand how appellate decision-making differs from the trial court proceedings they may be more familiar with.
URL:https://www.manchester.edu/event/via-appeals-on-wheels/
LOCATION:Jo Young Switzer Center\, 604 College Avenue\, NORTH MANCHESTER\, IN\, 46962\, United States
CATEGORIES:On-Campus Events,VIA,Student Events
END:VEVENT
BEGIN:VEVENT
DTSTART;TZID=America/Indiana/Indianapolis:20260408T090000
DTEND;TZID=America/Indiana/Indianapolis:20260408T150000
DTSTAMP:20260420T200704
CREATED:20251113T201559Z
LAST-MODIFIED:20260120T203055Z
UID:10000127-1775638800-1775660400@www.manchester.edu
SUMMARY:2026 Student Symposium
DESCRIPTION:2026 Annual Student Research Symposium\n			\n				\n				\n				\n				\n				\n			\n				\n				\n				\n				\n				Undergraduate and Graduate Student Research\, Scholarship\, Performances and Demonstrations across all Disciplines\nAn all-day event\, the Student Research Symposium is one of the largest annual gatherings at Manchester University. Beginning at 9 a.m. with a welcome from President Young and an address from an alumni speaker\, it culminates in the afternoon with a student keynote address and awards. \nPossible presentations:\n\nOral Presentation of Research\nPoster Presentation of Research\nVideo Exhibit\nVideo Game Demonstration\nVocal or Instrumental Music Performance\nArt Exhibit\nTeaching Demonstration\n\n			\n			\n				\n				\n				\n				\n			\n				\n				\n				\n				\n				\n				\n				\n				\n				\n				\n				Showcase Your Work at MU’s Student Symposium\nReady to share your ideas\, creativity\, and discoveries? Submit a proposal or abstract to present at MU’s Student Symposium! This is your chance to highlight your research\, performance\, or artistic work. Plus\, you’ll gain valuable experience sharing it with the campus community. \nYou can choose from several presentation formats: oral or poster presentation\, musical or artistic performance\, video exhibit or demonstration\, or even a teaching demo. Just include a short title and a 200-300 word abstract describing your topic\, purpose\, approach\, and conclusions. \nIf your project involves human subjects\, make sure you receive IRB approval before submission. You’ll also need to include any co-presenters’ names and your mentor’s contact info. \nWhether you’re presenting research\, performing\, or displaying other skills\, this is your opportunity to show what you’ve learned and how you’re growing as a student. \n			\n			\n				\n				\n				\n				\n				\n				Learn More Now\n			\n				Submit a Proposal or Abstract\n			\n			\n				\n				\n				\n				\n			\n				\n				\n			\n				\n				\n				\n				\n				\n				\n				\n				\n				\n				\n				\n				\n				\n				\n				\n				\n				\n				Visit Our North Manchester Campus\n			\n				\n				\n				\n				\n				Right now\, students just like you are thinking about their future. Where will you be when school starts this fall? What’s the best way to decide? \nScheduling a campus visit is the fastest way to find out if MU feels like home. You’ll meet real students\, faculty\, and staff\, and get to ask your biggest questions about life after high school. Thinking about transferring to MU? We hope you’ll visit too and discover your new best self. \n			\n				Schedule Your Visit
URL:https://www.manchester.edu/event/2026-student-symposium-manchester-university/
LOCATION:Jo Young Switzer Center\, 604 College Avenue\, NORTH MANCHESTER\, IN\, 46962\, United States
CATEGORIES:student symposium
ATTACH;FMTTYPE=image/jpeg:https://www.manchester.edu/wp-content/uploads/2026/01/handshake.jpg
END:VEVENT
BEGIN:VEVENT
DTSTART;TZID=America/Indiana/Indianapolis:20260219T170000
DTEND;TZID=America/Indiana/Indianapolis:20260219T190000
DTSTAMP:20260420T200704
CREATED:20260203T222621Z
LAST-MODIFIED:20260203T222621Z
UID:10000171-1771520400-1771527600@www.manchester.edu
SUMMARY:Haist Takeover Thursday
DESCRIPTION:Join us in Haist Commons from 5 to 7 p.m. for the Haist Takeover Thursday in honor of Black History Month!
URL:https://www.manchester.edu/event/haist-takeover-thursday/
LOCATION:Jo Young Switzer Center\, 604 College Avenue\, NORTH MANCHESTER\, IN\, 46962\, United States
CATEGORIES:On-Campus Events,Student Events
END:VEVENT
BEGIN:VEVENT
DTSTART;TZID=America/Indiana/Indianapolis:20251114T190000
DTEND;TZID=America/Indiana/Indianapolis:20251114T210000
DTSTAMP:20260420T200704
CREATED:20251110T193045Z
LAST-MODIFIED:20251110T193045Z
UID:10000122-1763146800-1763154000@www.manchester.edu
SUMMARY:MAC & Theatre Society | Friday Night Fun
DESCRIPTION:Join MAC & Theatre Society for some Friday Night Fun FRIDAY from 7-9pm!\nTheatre Society – Coloring & Karaoke – Haist Commons\nMAC – Escape Rooms (Zombie & Secret Society) – upper JYSC \n \nSign up for an escape room here!
URL:https://www.manchester.edu/event/mac-theatre-society-friday-night-fun/
LOCATION:Jo Young Switzer Center\, 604 College Avenue\, NORTH MANCHESTER\, IN\, 46962\, United States
END:VEVENT
BEGIN:VEVENT
DTSTART;TZID=America/Indiana/Indianapolis:20251024T200800
DTEND;TZID=America/Indiana/Indianapolis:20251024T230000
DTSTAMP:20260420T200704
CREATED:20250923T130809Z
LAST-MODIFIED:20250925T145833Z
UID:10000074-1761336480-1761346800@www.manchester.edu
SUMMARY:MAC Costume Bingo - 2025
DESCRIPTION:The Manchester Activities Council is once again hosting their annual costume bingo. Come out in your most stylish costume and play bingo to get the chance to win some serious prizes! Both playing bingo and participating in the costume contest can earn students chances at win prizes. \nTo receive a bingo card\, a canned good donation is required.
URL:https://www.manchester.edu/event/mac-costume-bingo/
LOCATION:Jo Young Switzer Center\, 604 College Avenue\, NORTH MANCHESTER\, IN\, 46962\, United States
CATEGORIES:On-Campus Events
END:VEVENT
BEGIN:VEVENT
DTSTART;TZID=America/Indiana/Indianapolis:20250930T180000
DTEND;TZID=America/Indiana/Indianapolis:20250930T200000
DTSTAMP:20260420T200704
CREATED:20250923T133530Z
LAST-MODIFIED:20250923T133530Z
UID:10000081-1759255200-1759262400@www.manchester.edu
SUMMARY:Honors Program - Power Packs... Period!
DESCRIPTION:Come to the Jo Young Switzer Center on September 23rd\, 24th\, and 25th to help end period poverty. You can donate time\, money\, or period products to help end period poverty. \nYou can donate products from 11am to 1pm and 5 to 6pm on the 23rd\, 24th\, and 25th in the Jo Young Switzer Center. Packing the products into kits will then follow on the 30th from 6 to 8pm in the Honors Lounge.
URL:https://www.manchester.edu/event/honors-program-power-packs-period/2025-09-30/
LOCATION:Jo Young Switzer Center\, 604 College Avenue\, NORTH MANCHESTER\, IN\, 46962\, United States
CATEGORIES:On-Campus Events
END:VEVENT
BEGIN:VEVENT
DTSTART;TZID=America/Indiana/Indianapolis:20250925T170000
DTEND;TZID=America/Indiana/Indianapolis:20250925T180000
DTSTAMP:20260420T200704
CREATED:20250923T133530Z
LAST-MODIFIED:20250923T133530Z
UID:10000080-1758819600-1758823200@www.manchester.edu
SUMMARY:Honors Program - Power Packs... Period!
DESCRIPTION:Come to the Jo Young Switzer Center on September 23rd\, 24th\, and 25th to help end period poverty. You can donate time\, money\, or period products to help end period poverty. \nYou can donate products from 11am to 1pm and 5 to 6pm on the 23rd\, 24th\, and 25th in the Jo Young Switzer Center. Packing the products into kits will then follow on the 30th from 6 to 8pm in the Honors Lounge.
URL:https://www.manchester.edu/event/honors-program-power-packs-period/2025-09-25/2/
LOCATION:Jo Young Switzer Center\, 604 College Avenue\, NORTH MANCHESTER\, IN\, 46962\, United States
CATEGORIES:On-Campus Events
END:VEVENT
BEGIN:VEVENT
DTSTART;TZID=America/Indiana/Indianapolis:20250925T110000
DTEND;TZID=America/Indiana/Indianapolis:20250925T130000
DTSTAMP:20260420T200704
CREATED:20250923T133530Z
LAST-MODIFIED:20250923T133530Z
UID:10000079-1758798000-1758805200@www.manchester.edu
SUMMARY:Honors Program - Power Packs... Period!
DESCRIPTION:Come to the Jo Young Switzer Center on September 23rd\, 24th\, and 25th to help end period poverty. You can donate time\, money\, or period products to help end period poverty. \nYou can donate products from 11am to 1pm and 5 to 6pm on the 23rd\, 24th\, and 25th in the Jo Young Switzer Center. Packing the products into kits will then follow on the 30th from 6 to 8pm in the Honors Lounge.
URL:https://www.manchester.edu/event/honors-program-power-packs-period/2025-09-25/1/
LOCATION:Jo Young Switzer Center\, 604 College Avenue\, NORTH MANCHESTER\, IN\, 46962\, United States
CATEGORIES:On-Campus Events
END:VEVENT
BEGIN:VEVENT
DTSTART;TZID=America/Indiana/Indianapolis:20250924T170000
DTEND;TZID=America/Indiana/Indianapolis:20250924T180000
DTSTAMP:20260420T200704
CREATED:20250923T133530Z
LAST-MODIFIED:20250923T133530Z
UID:10000078-1758733200-1758736800@www.manchester.edu
SUMMARY:Honors Program - Power Packs... Period!
DESCRIPTION:Come to the Jo Young Switzer Center on September 23rd\, 24th\, and 25th to help end period poverty. You can donate time\, money\, or period products to help end period poverty. \nYou can donate products from 11am to 1pm and 5 to 6pm on the 23rd\, 24th\, and 25th in the Jo Young Switzer Center. Packing the products into kits will then follow on the 30th from 6 to 8pm in the Honors Lounge.
URL:https://www.manchester.edu/event/honors-program-power-packs-period/2025-09-24/2/
LOCATION:Jo Young Switzer Center\, 604 College Avenue\, NORTH MANCHESTER\, IN\, 46962\, United States
CATEGORIES:On-Campus Events
END:VEVENT
BEGIN:VEVENT
DTSTART;TZID=America/Indiana/Indianapolis:20250924T150000
DTEND;TZID=America/Indiana/Indianapolis:20250924T170000
DTSTAMP:20260420T200704
CREATED:20250922T144753Z
LAST-MODIFIED:20250922T144753Z
UID:10000072-1758726000-1758733200@www.manchester.edu
SUMMARY:Farmers Market Comes to Campus
DESCRIPTION:North Manchester’s Farmers Market\n \nJoin the Farmers Market on North Manchester campus in the JYSC parking lot.
URL:https://www.manchester.edu/event/farmers-market-comes-to-campus/
LOCATION:Jo Young Switzer Center\, 604 College Avenue\, NORTH MANCHESTER\, IN\, 46962\, United States
CATEGORIES:Alumni,On-Campus Events
END:VEVENT
BEGIN:VEVENT
DTSTART;TZID=America/Indiana/Indianapolis:20250924T110000
DTEND;TZID=America/Indiana/Indianapolis:20250924T130000
DTSTAMP:20260420T200704
CREATED:20250923T133530Z
LAST-MODIFIED:20250923T133530Z
UID:10000077-1758711600-1758718800@www.manchester.edu
SUMMARY:Honors Program - Power Packs... Period!
DESCRIPTION:Come to the Jo Young Switzer Center on September 23rd\, 24th\, and 25th to help end period poverty. You can donate time\, money\, or period products to help end period poverty. \nYou can donate products from 11am to 1pm and 5 to 6pm on the 23rd\, 24th\, and 25th in the Jo Young Switzer Center. Packing the products into kits will then follow on the 30th from 6 to 8pm in the Honors Lounge.
URL:https://www.manchester.edu/event/honors-program-power-packs-period/2025-09-24/1/
LOCATION:Jo Young Switzer Center\, 604 College Avenue\, NORTH MANCHESTER\, IN\, 46962\, United States
CATEGORIES:On-Campus Events
END:VEVENT
BEGIN:VEVENT
DTSTART;TZID=America/Indiana/Indianapolis:20250923T170000
DTEND;TZID=America/Indiana/Indianapolis:20250923T180000
DTSTAMP:20260420T200704
CREATED:20250923T133530Z
LAST-MODIFIED:20250923T133530Z
UID:10000076-1758646800-1758650400@www.manchester.edu
SUMMARY:Honors Program - Power Packs... Period!
DESCRIPTION:Come to the Jo Young Switzer Center on September 23rd\, 24th\, and 25th to help end period poverty. You can donate time\, money\, or period products to help end period poverty. \nYou can donate products from 11am to 1pm and 5 to 6pm on the 23rd\, 24th\, and 25th in the Jo Young Switzer Center. Packing the products into kits will then follow on the 30th from 6 to 8pm in the Honors Lounge.
URL:https://www.manchester.edu/event/honors-program-power-packs-period/2025-09-23/2/
LOCATION:Jo Young Switzer Center\, 604 College Avenue\, NORTH MANCHESTER\, IN\, 46962\, United States
CATEGORIES:On-Campus Events
END:VEVENT
BEGIN:VEVENT
DTSTART;TZID=America/Indiana/Indianapolis:20250923T110000
DTEND;TZID=America/Indiana/Indianapolis:20250923T130000
DTSTAMP:20260420T200704
CREATED:20250923T133530Z
LAST-MODIFIED:20250923T133530Z
UID:10000075-1758625200-1758632400@www.manchester.edu
SUMMARY:Honors Program - Power Packs... Period!
DESCRIPTION:Come to the Jo Young Switzer Center on September 23rd\, 24th\, and 25th to help end period poverty. You can donate time\, money\, or period products to help end period poverty. \nYou can donate products from 11am to 1pm and 5 to 6pm on the 23rd\, 24th\, and 25th in the Jo Young Switzer Center. Packing the products into kits will then follow on the 30th from 6 to 8pm in the Honors Lounge.
URL:https://www.manchester.edu/event/honors-program-power-packs-period/2025-09-23/1/
LOCATION:Jo Young Switzer Center\, 604 College Avenue\, NORTH MANCHESTER\, IN\, 46962\, United States
CATEGORIES:On-Campus Events
END:VEVENT
BEGIN:VEVENT
DTSTART;TZID=America/Indiana/Indianapolis:20250919T200000
DTEND;TZID=America/Indiana/Indianapolis:20250919T230000
DTSTAMP:20260420T200704
CREATED:20250918T134253Z
LAST-MODIFIED:20250918T134253Z
UID:10000071-1758312000-1758322800@www.manchester.edu
SUMMARY:Residential Life Song Bingo
DESCRIPTION:Join us on September 19th for Residential Life’s song bingo! The event starts at 8pm and will be in the Upper Jo Young Switzer Center. The event is open to everyone but only residential students can earn prizes.
URL:https://www.manchester.edu/event/residential-life-song-bingo/
LOCATION:Jo Young Switzer Center\, 604 College Avenue\, NORTH MANCHESTER\, IN\, 46962\, United States
END:VEVENT
END:VCALENDAR